BEGIN:VCALENDAR
VERSION:2.0
PRODID:-//Apple Inc.//iCal 5.0.2//EN
CALSCALE:GREGORIAN
BEGIN:VTIMEZONE
TZID:Australia/
BEGIN:STANDARD
TZOFFSETFROM:+1100
RRULE:FREQ=YEARLY;BYMONTH=4;BYDAY=1SU
DTSTART:20080406T030000
TZNAME:
TZOFFSETTO:+
END:STANDARD
BEGIN:DAYLIGHT
TZOFFSETFROM:+
RRULE:FREQ=YEARLY;BYMONTH=10;BYDAY=1SU
DTSTART:20081005T020000
TZNAME:AEDT
TZOFFSETTO:+1100
END:DAYLIGHT
END:VTIMEZONE
BEGIN:VEVENT
CREATED:20260425T020032
UID:Property20427222Inspection52745327
DTEND;TZID=Australia/:20200229T151500
TRANSP:OPAQUE
SUMMARY:Open For Inspection: 1/19 Deodar Drive, BURLEIGH HEADS
DESCRIPTION:2 Bedroom unit short walk to the beach & cafes - Price reduced for limited time only - Renovated, light filled unit, available soon!

* Beautiful floor to ceiling splash back feature wall to kitchen/lounge room
* New oven and cooktop with lots of storage to kitchen 
* Stylish vinyl flooring throughout 
* 2 generous sized bedrooms 
* Brand new bathroom fixtures with modern tiles throughout 
* Enjoy the fresh sea breezes while you take advantage of being only footsteps to trendy cafe strips of popular Burleigh Heads
* Short walk to the beach!
* Apply now, this unit won't last long! 
* Sorry no pets


Tenant/s are responsible for all utilities including Water, Internet and Phone Connections.

Disclaimer: Remax Transact in preparing this information has used its best endeavours to ensure that the information contained herein is true and accurate, but accept no responsibility and disclaim all liability in respect of any errors, omissions, inaccuracies or misstatements that may occur. Prospective tenants should make their own enquiries to verify the information contained herein.
LAST-MODIFIED:20260425T020032
DTSTAMP:20260425T020032
DTSTART;TZID=Australia/:20200229T150000
LOCATION:1/19 Deodar Drive BURLEIGH HEADS QLD 4220
URL:https://www.sonteragency.com.au/20427222
SEQUENCE:0
END:VEVENT
END:VCALENDAR
