BEGIN:VCALENDAR
VERSION:2.0
PRODID:-//Apple Inc.//iCal 5.0.2//EN
CALSCALE:GREGORIAN
BEGIN:VTIMEZONE
TZID:Australia/
BEGIN:STANDARD
TZOFFSETFROM:+1100
RRULE:FREQ=YEARLY;BYMONTH=4;BYDAY=1SU
DTSTART:20080406T030000
TZNAME:
TZOFFSETTO:+
END:STANDARD
BEGIN:DAYLIGHT
TZOFFSETFROM:+
RRULE:FREQ=YEARLY;BYMONTH=10;BYDAY=1SU
DTSTART:20081005T020000
TZNAME:AEDT
TZOFFSETTO:+1100
END:DAYLIGHT
END:VTIMEZONE
BEGIN:VEVENT
CREATED:20260425T015944
UID:Property20416574Inspection52746906
DTEND;TZID=Australia/:20200229T103000
TRANSP:OPAQUE
SUMMARY:Open For Inspection: 2110/2 Activa Way, Hope Island
DESCRIPTION:Motivated Seller, present your best offer - EXECUTIVE GARDEN APARTMENT - GREAT VALUE

GROUND FLOOR overlooking to tropical garden IN AZZURA
Relaxing, Quiet secluded
Presents as good as the pictures  

"OPEN HOME" Saturday 11.30 to 12pm
Meet Kim at Azzura entrance/ reception

Private inspection at any time can be arranged by a phone call

This Property has been recently redecorated in neutral palette so simply move in, unpack and enjoy your new home.

Rental in that property would be around $550pw.

It is an incredible opportunity to break into the Hope Island market, suitable for investors and first home buyers alike. Ultra-convenient and brimming with a plethora of resort-style facilities, this is the ultimate coastal pad!

Features:
Ground floor unit
2 bedrooms opening to the verandah
2 ensuite bathrooms plus a powder room
Open plan living area flowing to the patio
Full length verandah looking out to tropical gardens
Quality kitchen with stone benchtops
Underground security parking space
24 Hr Security
Security entry with reception


Body Corporate Fees is approx. $160 per week  - includes the upkeep of the common grounds around the resort, garbage removals, maintenance of gym/sauna/steam room and pool, and provides 24/7 back to base security.
 
Council Rates are $2600 annually. 

Water Rates are approximately $235 per quarter plus individual consumption.

Other outstanding features of this value packed property include an internal laundry, split system air-conditioning, single basement car park and elevator access. The complex features a long list of hotel-like facilities including a beach pool with spa, 4 barbeque areas, gymnasium, sauna and steam room. For those who require a lock-up and leave lifestyle, this low-maintenance apartment delivers with full security and on-site management providing you with peace of mind. 

Located on the Northern end of Gold Coast only 15 minutes to central Gold Coast beaches, school under 7 minutes away and a short 5 minutes from Sanctuary Cove and the M1 offering an easy commute to Brisbane and the airport. Be it an investment or lifestyle choice this is a must to inspect. Call today.

LAST-MODIFIED:20260425T015944
DTSTAMP:20260425T015944
DTSTART;TZID=Australia/:20200229T100000
LOCATION:2110/2 Activa Way Hope Island QLD 4212
URL:https://www.sonteragency.com.au/20416574
SEQUENCE:0
END:VEVENT
END:VCALENDAR
