BEGIN:VCALENDAR
VERSION:2.0
PRODID:-//Apple Inc.//iCal 5.0.2//EN
CALSCALE:GREGORIAN
BEGIN:VTIMEZONE
TZID:Australia/
BEGIN:STANDARD
TZOFFSETFROM:+1100
RRULE:FREQ=YEARLY;BYMONTH=4;BYDAY=1SU
DTSTART:20080406T030000
TZNAME:
TZOFFSETTO:+
END:STANDARD
BEGIN:DAYLIGHT
TZOFFSETFROM:+
RRULE:FREQ=YEARLY;BYMONTH=10;BYDAY=1SU
DTSTART:20081005T020000
TZNAME:AEDT
TZOFFSETTO:+1100
END:DAYLIGHT
END:VTIMEZONE
BEGIN:VEVENT
CREATED:20260425T020033
UID:Property20423905Inspection52747820
DTEND;TZID=Australia/:20200229T133000
TRANSP:OPAQUE
SUMMARY:Open For Inspection: 3314 Central Place, CARRARA
DESCRIPTION:BOUTIQUE RESIDENCE at EMERALD LAKES VILLAGE CARRARA - ALL OFFERS WILL BE CONSIDERED

Stylish and modern 3 bedroom large apartment/townhouse located in the peaceful and picturesque estate of Emerald Lakes, this spacious apartment (approx. 240m2/26 squares) has lots on offer! North facing with an enormous sense of natural light and space, windows and skylights built where possible to take in the leafy and green Emerald Lakes. It's a lifestyle choices for families and couples.

Whether you're after a comfortable home or a lucrative investment, this property is sure to tick all the boxes. It's spacious in design, porcelain tiles, new carpet, quality finishes, fixtures and an abundance of natural light. Appliances and kitchen/bathrooms finishes has been updated recently.

Features Include:
~ 3 good sized bedrooms plus study nook
~ Master with ensuite and walk-in robe
~ Spacious open-plan living and dining areas
~ You are cooking with gas plus plenty of storage and bench space
~ Huge Storage (bedroom size) located on the ground floor
~ Good size balcony/entertainment area (off the dining and lounge room)
~ Ceiling fans and ducted air-conditioning throughout
~ Separate laundry
~ Double lock up garage with additional golf buggy space
~ Potential permanent rental returns between $600-$650pw
~ Exclusive facilities for residents including pool and BBQ area
- Pet friendly

Body Corporate Fees is approx.. $100pw
Council Rates are approx.. $804 billed twice per annum.
Water Rates are approximately $235 per quarter plus individual consumption 

VIDEO: Please click on external link at the bottom of this listing that specify Floor Plans & Tour to play short video on this property. 

Disclaimer: We have in preparing this information used our best endeavours to ensure that the information contained herein is true and accurate, but accept no responsibility and disclaim all liability in respect of any errors, omissions, inaccuracies or misstatements that may occur. Prospective purchasers should make their own enquiries to verify the information contained herein.
LAST-MODIFIED:20260425T020033
DTSTAMP:20260425T020033
DTSTART;TZID=Australia/:20200229T130000
LOCATION:3314 Central Place CARRARA QLD 4211
URL:https://www.sonteragency.com.au/20423905
SEQUENCE:0
END:VEVENT
END:VCALENDAR
