BEGIN:VCALENDAR
VERSION:2.0
PRODID:-//Apple Inc.//iCal 5.0.2//EN
CALSCALE:GREGORIAN
BEGIN:VTIMEZONE
TZID:Australia/
BEGIN:STANDARD
TZOFFSETFROM:+1100
RRULE:FREQ=YEARLY;BYMONTH=4;BYDAY=1SU
DTSTART:20080406T030000
TZNAME:
TZOFFSETTO:+
END:STANDARD
BEGIN:DAYLIGHT
TZOFFSETFROM:+
RRULE:FREQ=YEARLY;BYMONTH=10;BYDAY=1SU
DTSTART:20081005T020000
TZNAME:AEDT
TZOFFSETTO:+1100
END:DAYLIGHT
END:VTIMEZONE
BEGIN:VEVENT
CREATED:20260425T015817
UID:Property20372473Inspection52748024
DTEND;TZID=Australia/:20200229T103000
TRANSP:OPAQUE
SUMMARY:Open For Inspection: 77/601 Pine Ridge Road, Biggera Waters
DESCRIPTION:Spacious Townhouse Near Schools & Harbour Town Premium Outlets - Well maintained complex with swimming pools and tennis courts located within walking distance of schools, bus routes and Harbour Town Premium Outlets.

Townhouse comprises of:

*  3 Spacious carpeted bedrooms with BIR & ceiling fans
*  1 Full bathroom
*  2 Separate toilets - one upstairs & one downstairs
*  Updated functional kitchen
*  Separate laundry leading to outdoor washing line
*  Modern LED lighting
*  Extra storage under stairwell
*  Open plan air-conditioned tiled living room leading to 
*  Private BBQ entertainment area
*  Established garden
*  1 Lock-up Garage
*  1 Parking bay
*  Extra visitors' parking in complex
*  Pets on application
*  Swimming pool 
*  Tennis courts

Disclaimer:
RE/MAX has not independently checked any of the information we merely pass on. We make no comment on and give no warranty as to the accuracy of the information contained in this document which does not constitute all or any part of any offer or contract by the recipient. Prospective purchasers / lessees must rely on their own enquiries and should satisfy themselves as to the truth or accuracy of all information given by their own inspections, searches, inquiries, advices or as is otherwise necessary. No duty of care is assumed by Sonter Commercial Pty Ltd T/A RE/MAX Transact in recipient with regard to the use of this information and all information given is given without responsibility


LAST-MODIFIED:20260425T015817
DTSTAMP:20260425T015817
DTSTART;TZID=Australia/:20200229T100000
LOCATION:77/601 Pine Ridge Road Biggera Waters QLD 4216
URL:https://www.sonteragency.com.au/20372473
SEQUENCE:0
END:VEVENT
END:VCALENDAR
