BEGIN:VCALENDAR
VERSION:2.0
PRODID:-//Apple Inc.//iCal 5.0.2//EN
CALSCALE:GREGORIAN
BEGIN:VTIMEZONE
TZID:Australia/
BEGIN:STANDARD
TZOFFSETFROM:+1100
RRULE:FREQ=YEARLY;BYMONTH=4;BYDAY=1SU
DTSTART:20080406T030000
TZNAME:
TZOFFSETTO:+
END:STANDARD
BEGIN:DAYLIGHT
TZOFFSETFROM:+
RRULE:FREQ=YEARLY;BYMONTH=10;BYDAY=1SU
DTSTART:20081005T020000
TZNAME:AEDT
TZOFFSETTO:+1100
END:DAYLIGHT
END:VTIMEZONE
BEGIN:VEVENT
CREATED:20260425T015946
UID:Property20407537Inspection52748034
DTEND;TZID=Australia/:20200229T153000
TRANSP:OPAQUE
SUMMARY:Open For Inspection: 40 7-17 Purli Street, SURFERS PARADISE
DESCRIPTION:Pearl of an Investment! - This immaculate top floor Pacific Grande Apartment is offered for sale - ideal for owners or investors (currently tenanted).

The property features:

*  Spacious open plan living leading out to a sunny balcony
*  Modern kitchen/dining area, including fridge/freezer & dishwasher
*  Practical laminate flooring throughout
*  Convenient bath/shower combo
*  Separate toilet
*  Two generous bedrooms both with mirrored robes
*  Air-conditioning in the open plan living area as well as the master bedroom
*  Juliet balcony leading off the master bedroom
*  Ceiling fans
*  Intercom access
*  Secure tandem double parking bay
*  Sizable lock-up storage cage

Pacific Grande offers a modern gymnasium, sparkling swimming pool, manicured gardens and site management.

Disclaimer:
RE/MAX has not independently checked any of the information we merely pass on. We make no comment on and give no warranty as to the accuracy of the information contained in this document which does not constitute all or any part of any offer or contract by the recipient. Prospective purchasers / lessees must rely on their own enquiries and should satisfy themselves as to the truth or accuracy of all information given by their own inspections, searches, inquiries, advices or as is otherwise necessary. No duty of care is assumed by Sonter Commercial Pty Ltd T/A RE/MAX Transact in recipient with regard to the use of this information and all information given is given without responsibility


LAST-MODIFIED:20260425T015946
DTSTAMP:20260425T015946
DTSTART;TZID=Australia/:20200229T150000
LOCATION:40 7-17 Purli Street SURFERS PARADISE QLD 4217
URL:https://www.sonteragency.com.au/20407537
SEQUENCE:0
END:VEVENT
END:VCALENDAR
