BEGIN:VCALENDAR
VERSION:2.0
PRODID:-//Apple Inc.//iCal 5.0.2//EN
CALSCALE:GREGORIAN
BEGIN:VTIMEZONE
TZID:Australia/
BEGIN:STANDARD
TZOFFSETFROM:+1100
RRULE:FREQ=YEARLY;BYMONTH=4;BYDAY=1SU
DTSTART:20080406T030000
TZNAME:
TZOFFSETTO:+
END:STANDARD
BEGIN:DAYLIGHT
TZOFFSETFROM:+
RRULE:FREQ=YEARLY;BYMONTH=10;BYDAY=1SU
DTSTART:20081005T020000
TZNAME:AEDT
TZOFFSETTO:+1100
END:DAYLIGHT
END:VTIMEZONE
BEGIN:VEVENT
CREATED:20260425T022046
UID:Property20375653Inspection52748035
DTEND;TZID=Australia/:20200229T120000
TRANSP:OPAQUE
SUMMARY:Open For Inspection: 15/13-17 Brown Street, Labrador
DESCRIPTION:Light & Bright Ground Floor Apartment - In the heart of Labrador, a stone's throw from Aldi, and with the Chirn Park Village cosmopolitan lifestyle of cafes and boutiques right on your doorstep, this light-filled ground floor apartment with its neutral decor is a prized find.

The solid double brick, north facing construction provides a cooling aspect as well as added privacy by softening any noise.

Entertaining is a pleasure in this modern updated kitchen with ample storage and breakfast counter, as it forms part of the air conditioned open plan carpeted living area.  

A newly renovated, combined shower/laundry, with separate toilet leads to the two generous bedrooms both with built-in wardrobes, remote-controlled ceiling fans and extra power points.

The private enclosed sunny patio is easily accessed from the handy under cover car space.

Ideal for downsizers, early retirees, busy singles, or first home owners seeking convenience and easy access to the laid back lifestyle of the Broadwater, this unit would suit owner/occupiers, or serve as a prime addition to your investment portfolio.

"The Avenue" complex with it's incredibly low body corporate fee, is beautifully maintained and offers an in-ground pool for relief from long hot summer days.

A lovely, tranquil, sunny spot to call home, or the perfect lock up and go - the decision is yours.

Call Marie Erasmus on 0430 065 908 to view and call "The Avenue" home.


Disclaimer:
RE/MAX has not independently checked any of the information we merely pass on. We make no comment on and give no warranty as to the accuracy of the information contained in this document which does not constitute all or any part of any offer or contract by the recipient. Prospective purchasers / lessees must rely on their own enquiries and should satisfy themselves as to the truth or accuracy of all information given by their own inspections, searches, inquiries, advices or as is otherwise necessary. No duty of care is assumed by Sonter Commercial Pty Ltd T/A RE/MAX Transact in recipient with regard to the use of this information and all information given is given without responsibility


LAST-MODIFIED:20260425T022046
DTSTAMP:20260425T022046
DTSTART;TZID=Australia/:20200229T113000
LOCATION:15/13-17 Brown Street Labrador QLD 4215
URL:https://www.sonteragency.com.au/20375653
SEQUENCE:0
END:VEVENT
END:VCALENDAR
