BEGIN:VCALENDAR
VERSION:2.0
PRODID:-//Apple Inc.//iCal 5.0.2//EN
CALSCALE:GREGORIAN
BEGIN:VTIMEZONE
TZID:Australia/
BEGIN:STANDARD
TZOFFSETFROM:+1100
RRULE:FREQ=YEARLY;BYMONTH=4;BYDAY=1SU
DTSTART:20080406T030000
TZNAME:
TZOFFSETTO:+
END:STANDARD
BEGIN:DAYLIGHT
TZOFFSETFROM:+
RRULE:FREQ=YEARLY;BYMONTH=10;BYDAY=1SU
DTSTART:20081005T020000
TZNAME:AEDT
TZOFFSETTO:+1100
END:DAYLIGHT
END:VTIMEZONE
BEGIN:VEVENT
CREATED:20260425T024413
UID:Property20183120Inspection52751497
DTEND;TZID=Australia/:20200303T120000
TRANSP:OPAQUE
SUMMARY:Open For Inspection: 63 Kerry St, SANCTUARY POINT
DESCRIPTION:Location Plus Space - Ticks All Boxes for Large Families - This lovely home has 4 bedrooms all with built in robes and the best outdoor entertaining area.  

A large cat Avery or second shed is great to store everything in.  

The ready made vegetable garden is a bonus for the one who likes to have home grown vegetable.

Pet friendly home with a fully enclosed backyard.

Lounge room with additional dining/family room.

Inspect for your chance to have this beauty become your new home !!
LAST-MODIFIED:20260425T024413
DTSTAMP:20260425T024413
DTSTART;TZID=Australia/:20200303T113000
LOCATION:63 Kerry St SANCTUARY POINT NSW 2540
URL:http://www.dwellrealty.com.au/20183120
SEQUENCE:0
END:VEVENT
END:VCALENDAR
