BEGIN:VCALENDAR
VERSION:2.0
PRODID:-//Apple Inc.//iCal 5.0.2//EN
CALSCALE:GREGORIAN
BEGIN:VTIMEZONE
TZID:Australia/
BEGIN:STANDARD
TZOFFSETFROM:+1100
RRULE:FREQ=YEARLY;BYMONTH=4;BYDAY=1SU
DTSTART:20080406T030000
TZNAME:
TZOFFSETTO:+
END:STANDARD
BEGIN:DAYLIGHT
TZOFFSETFROM:+
RRULE:FREQ=YEARLY;BYMONTH=10;BYDAY=1SU
DTSTART:20081005T020000
TZNAME:AEDT
TZOFFSETTO:+1100
END:DAYLIGHT
END:VTIMEZONE
BEGIN:VEVENT
CREATED:20260425T031758
UID:Property20152353Inspection51681356
DTEND;TZID=Australia/:20190302T111500
TRANSP:OPAQUE
SUMMARY:Open For Inspection: 3 Lewis Street, GOOLWA SOUTH
DESCRIPTION:Close to Town Centre - OPEN INSPECTION CANCELLED FOR SATURDAY 31ST OCTOBER

Unique home located in Goolwa South
4 bedroom family home situated on a generous 796sqm block with low maintenance gardens
2 bedrooms with built in robes
Large lounge. Kitchen overlooking dining area.
Perfect for the first home buyer
Freshly painted throughout
2 Storey flat at rear - would make an ideal teenagers retreat 
Flat has kitchen, bathroom & dining downstairs. 
Upstairs there is a kitchenette, living area & area for bedroom with balcony
BBQ hut with built in BBQ
Shed and tool shed.
Garden area set up as a blank canvas ready to start a veggie patch
All this within a few minutes' walk to the shops & short walk to beach or river
 

LAST-MODIFIED:20260425T031758
DTSTAMP:20260425T031758
DTSTART;TZID=Australia/:20190302T103000
LOCATION:3 Lewis Street GOOLWA SOUTH SA 5214
URL:http://www.coast2vines.com.au/20152353
SEQUENCE:0
END:VEVENT
END:VCALENDAR
