BEGIN:VCALENDAR
VERSION:2.0
PRODID:-//Apple Inc.//iCal 5.0.2//EN
CALSCALE:GREGORIAN
BEGIN:VTIMEZONE
TZID:Australia/
BEGIN:STANDARD
TZOFFSETFROM:+1100
RRULE:FREQ=YEARLY;BYMONTH=4;BYDAY=1SU
DTSTART:20080406T030000
TZNAME:
TZOFFSETTO:+
END:STANDARD
BEGIN:DAYLIGHT
TZOFFSETFROM:+
RRULE:FREQ=YEARLY;BYMONTH=10;BYDAY=1SU
DTSTART:20081005T020000
TZNAME:AEDT
TZOFFSETTO:+1100
END:DAYLIGHT
END:VTIMEZONE
BEGIN:VEVENT
CREATED:20260425T014334
UID:Property20640504Inspection53750072
DTEND;TZID=Australia/:20210227T113000
TRANSP:OPAQUE
SUMMARY:Open For Inspection: 47 Halstead st, COORPAROO
DESCRIPTION:Family entertainer in the heart of Coorparoo! - Introducing this luxurious opulent family entertainer in the desired location of Coorparoo!

This sprawling two level home boasting 365sqm under roof provides sophistication and style for any buyer, whilst its clever architectural design features delivers an extremely practical floor plan and flow. From the elegant timber fence and private front courtyard attracting you to the grand entrance of the property and high ceilings, buyers seeking a multitude of space will immediately fall in love with this serendipitous property coming to market for the first time since its completion in 2019.

Immaculate near-new interiors showcase soaring ceilings complimenting a crisp neutral palette that presents a blank canvas, and its true open plan layout seamlessly integrates both indoor and outdoor living to perfection.  

After entering the home, you are immediately exposed to the first of 3 seperate living areas that allow your family to enjoy the abundance of space, delivering you practicality and privacy! 

The main living, kitchen and dining area welcomes you at the end of the hallway and seamlessly opens out to the alfresco and pool area in the backyard. 

The kitchen is a function driven culinary haven. Banks of custom cabinetry ensure ample storage, with added practicality and glamour that comes with the large butlers pantry flowing from the oversized stone benchtops. 

Entertain and enjoy outdoor living with the al-fresco terrace that adjoins the interiors effortlessly. Overlooking the flat astro turf in the yard that is designed for maintenance free living will appeal to every busy family. Enjoy the outdoor living whilst overlooking your private pool that your entire family can enjoy. 

Whilst set on a maintenance free 405sqm allotment, this home still delivers on the interior space needed for modern family living. A design choice that sets this home apart from its competitors, is that all five spacious bedrooms are positioned on the upper level, with an adjoining family living room.

The configuration of the bedrooms is well-considered, with the master separated from the remaining four bedrooms with a family living space in between. This luxurious main bedroom features the added privacy of an ensuite and private balcony. Whilst there is also an oversized main bathroom servicing the remainder of the upstairs bedrooms.

Added features of this outstanding home include fully ducted and zoned air conditioning throughout, a large laundry with stone benches, a large powder room on the ground floor, double lock up garage with remote access, fully fenced and well established landscaping at the front and rear. 

It has been tenanted for the last 18 months at $1250 per week it will be available for all buyers as a vacant possession, ready to move in. 

For all enquiries, please contact Matt Wall on 0421441044 or email mwall@coreea.com.au for more information.

LAST-MODIFIED:20260425T014334
DTSTAMP:20260425T014334
DTSTART;TZID=Australia/:20210227T110000
LOCATION:47 Halstead st COORPAROO QLD 4151
URL:http://www.coreea.com.au/20640504
SEQUENCE:0
END:VEVENT
END:VCALENDAR
