BEGIN:VCALENDAR
VERSION:2.0
PRODID:-//Apple Inc.//iCal 5.0.2//EN
CALSCALE:GREGORIAN
BEGIN:VTIMEZONE
TZID:Australia/
BEGIN:STANDARD
TZOFFSETFROM:+1100
RRULE:FREQ=YEARLY;BYMONTH=4;BYDAY=1SU
DTSTART:20080406T030000
TZNAME:
TZOFFSETTO:+
END:STANDARD
BEGIN:DAYLIGHT
TZOFFSETFROM:+
RRULE:FREQ=YEARLY;BYMONTH=10;BYDAY=1SU
DTSTART:20081005T020000
TZNAME:AEDT
TZOFFSETTO:+1100
END:DAYLIGHT
END:VTIMEZONE
BEGIN:VEVENT
CREATED:20260425T014243
UID:Property20652676Inspection53751368
DTEND;TZID=Australia/:20210225T143000
TRANSP:OPAQUE
SUMMARY:Open For Inspection: 13 Balowrie st, HAMILTON
DESCRIPTION:Private contemporary home in the heart of Hamilton! - This near new modern contemporary home has just hit the market and wont last long!

In a suburb that is dominated by pre war Queenslander homes, this rare architecturally designed property will appeal to buyers wanting something unique, whilst sitting in the heart of one of Brisbane's most renowned suburbs.

Boasting five bedrooms, two and a half bathrooms, a double car lock up garage, matte black tap-ware, Illve appliances, stone bench-tops throughout, timber floors, separate laundry, dry area, sun room, two living areas, parents retreat, an alfresco entertaining area with grass, along with a beautifully secluded in-ground swimming pool.... there isn't much more you could wish for in a house.

You will be greeted with an oversized front door and complimented by a large sky light, that pours natural light into the entrance and first floor of the property. You continue to be enticed by the large open space that flows into the oversized living, kitchen and dining area. With plenty of room for the kids to play both downstairs, upstairs and around the external alfresco area, this house impresses on every level. 

You will love the sleek modern kitchen with custom cabinetry, stone benches, glass splash back, built in microwave and dishwasher, whilst enjoying the illve appliances and the natural gas cooktop.

The master wing downstairs creates a private retreat for you to relax and enjoy the oversized bedroom that is complimented by the large walk in robe and ensuite. 

Upstairs you are greeted with another living area that separates out one of two bedroom wings and the large bathroom. With a large array of windows across both hallways, the clever design allows plenty of natural light to showcase all of the amazing finishes. 

We have priced this property to sell and sell fast, so please don't miss the next scheduled inspection to experience it for yourself.

For more information, please contact Matt Wall on 0421 441 044 or mwall@coreea.com.au
LAST-MODIFIED:20260425T014243
DTSTAMP:20260425T014243
DTSTART;TZID=Australia/:20210225T140000
LOCATION:13 Balowrie st HAMILTON QLD 4007
URL:http://www.coreea.com.au/20652676
SEQUENCE:0
END:VEVENT
END:VCALENDAR
