BEGIN:VCALENDAR
VERSION:2.0
PRODID:-//Apple Inc.//iCal 5.0.2//EN
CALSCALE:GREGORIAN
BEGIN:VTIMEZONE
TZID:Australia/
BEGIN:STANDARD
TZOFFSETFROM:+1100
RRULE:FREQ=YEARLY;BYMONTH=4;BYDAY=1SU
DTSTART:20080406T030000
TZNAME:
TZOFFSETTO:+
END:STANDARD
BEGIN:DAYLIGHT
TZOFFSETFROM:+
RRULE:FREQ=YEARLY;BYMONTH=10;BYDAY=1SU
DTSTART:20081005T020000
TZNAME:AEDT
TZOFFSETTO:+1100
END:DAYLIGHT
END:VTIMEZONE
BEGIN:VEVENT
CREATED:20260425T015602
UID:Property20413180Inspection52751412
DTEND;TZID=Australia/:20200229T113000
TRANSP:OPAQUE
SUMMARY:Open For Inspection: 119 Pope St, TARRAGINDI
DESCRIPTION:MUST BE SOLD Subdivision potential on 1,012m2 - Subdivision Potential - Investors and Renovators are Fall in love with this home positioned on a large 1012m2 with a commanding location.

119 Pope Street is ready for further renovation / development with possibility to split subject to council approval. There is also potential to retain, move and renovate the current home on the property.

Location -
The property is located just 8kms to Brisbane CBD with easy access to the Pacific Motorway. The property is very close to Wellers Hill State School, St Elizabeth's school, Holland Park West High school and Griffith University. It is located within the Wellers Hill school catchment area.
The property is located in a very good area only 8kms to Brisbane CBD and close and handy to buses, hospitals, shopping centres etc.

Tarragindi is a family friendly neighbourhood which is a sought after area known for its fantastic infrastructure and proximity to the city & the many tree lined streets. Its popularity with families is due to the number of beautiful local parks, Toohey forest, cafes, shops and the well-respected schools and easy access to transport including the express busway and motorway.

For more details on this great property contact our team on 0431 405 105 or e-mail us at warren@warrenteam.com.au

Disclaimer - All information and suggested development options contained herein is gathered from sources we consider to be reliable. However we cannot guarantee or give any warranty about the information provided and interested parties must solely rely on their own enquiries. All listed development options above require the buyer's own due diligence and are subject to satisfaction of the subdivision code & subject to council approval.
LAST-MODIFIED:20260425T015602
DTSTAMP:20260425T015602
DTSTART;TZID=Australia/:20200229T110000
LOCATION:119 Pope St TARRAGINDI QLD 4121
URL:http://remaxresults.com.au/Varun-Kapoor-(Warren)/20413180
SEQUENCE:0
END:VEVENT
END:VCALENDAR
