BEGIN:VCALENDAR
VERSION:2.0
PRODID:-//Apple Inc.//iCal 5.0.2//EN
CALSCALE:GREGORIAN
BEGIN:VTIMEZONE
TZID:Australia/
BEGIN:STANDARD
TZOFFSETFROM:+1100
RRULE:FREQ=YEARLY;BYMONTH=4;BYDAY=1SU
DTSTART:20080406T030000
TZNAME:
TZOFFSETTO:+
END:STANDARD
BEGIN:DAYLIGHT
TZOFFSETFROM:+
RRULE:FREQ=YEARLY;BYMONTH=10;BYDAY=1SU
DTSTART:20081005T020000
TZNAME:AEDT
TZOFFSETTO:+1100
END:DAYLIGHT
END:VTIMEZONE
BEGIN:VEVENT
CREATED:20260425T022548
UID:Property20423565Inspection52750786
DTEND;TZID=Australia/:20200229T123000
TRANSP:OPAQUE
SUMMARY:Open For Inspection: 9/7 Blaxland Avenue, NEWINGTON
DESCRIPTION:Resort-Style Living Meets Village Convenience - This Naturally light filled units offers an oversized living space and a versatile open plan layout with privacy and leafy outlook. 

This oversized and well-maintained unit providing a relaxed resort-like lifestyle and contemporary living of convenience is placed just steps from the Newington Village, Bus Stop and few minutes drive to the  Newington Public School, Sydney Olympic Park facilities. 


Features 

- North Facing Balcony with Abundance of Natural Light 
- Oversized Living Area with Timber Floor Throughout 
- Two Spacious Bedrooms with Built-In Wardrobes 
- Two Modern Bathrooms, Main Bathroom with Bathtub
- Gourmet Granite Kitchen with Stainless Steel & Gas Appliances
- Separate Internal Laundry, Air Conditioning
- Security Intercom, Security Parking 
- Solid Brick Construction Building 


Please feel free to contact Irene on 0439 463 420 if you have any further questions

LAST-MODIFIED:20260425T022548
DTSTAMP:20260425T022548
DTSTART;TZID=Australia/:20200229T120000
LOCATION:9/7 Blaxland Avenue NEWINGTON NSW 2127
URL:http://www.sweetrealty.com.au/20423565
SEQUENCE:0
END:VEVENT
END:VCALENDAR
