BEGIN:VCALENDAR
VERSION:2.0
PRODID:-//Apple Inc.//iCal 5.0.2//EN
CALSCALE:GREGORIAN
BEGIN:VTIMEZONE
TZID:Australia/
BEGIN:STANDARD
TZOFFSETFROM:+1100
RRULE:FREQ=YEARLY;BYMONTH=4;BYDAY=1SU
DTSTART:20080406T030000
TZNAME:
TZOFFSETTO:+
END:STANDARD
BEGIN:DAYLIGHT
TZOFFSETFROM:+
RRULE:FREQ=YEARLY;BYMONTH=10;BYDAY=1SU
DTSTART:20081005T020000
TZNAME:AEDT
TZOFFSETTO:+1100
END:DAYLIGHT
END:VTIMEZONE
BEGIN:VEVENT
CREATED:20260425T015556
UID:Property20186945Inspection52750795
DTEND;TZID=Australia/:20200229T142000
TRANSP:OPAQUE
SUMMARY:Open For Inspection: D804/1 Delhi Road, NORTH RYDE
DESCRIPTION:Contemporary 2 Bedroom + Study Apartment in CENTRALE - Experience the 'Centrale' complex where contemporary urban living, connectivity and the ultimate convenience come together. Connected to major transport in the heart of North Ryde and central to local shopping complexes and restaurants.

This apartment features:

- 2 Spacious bedrooms with built-ins and ensuite in Master
- Big study room
- Designer kitchen with gas cooktops and dishwashers
- Built in wardrobes and linen cupboards
- Internal laundry
- Specious balcony
- Secure car space
- Secure building with lift access

For an inspection or more details contact Irene on 0406 717 523

Disclaimer: The description and property features in this advertisement may not accurately reflect the current features of the property including the building facilities. Please get your own research for more details for the property and the building.
LAST-MODIFIED:20260425T015556
DTSTAMP:20260425T015556
DTSTART;TZID=Australia/:20200229T140000
LOCATION:D804/1 Delhi Road NORTH RYDE NSW 2113
URL:http://www.sweetrealty.com.au/20186945
SEQUENCE:0
END:VEVENT
END:VCALENDAR
