BEGIN:VCALENDAR
VERSION:2.0
PRODID:-//Apple Inc.//iCal 5.0.2//EN
CALSCALE:GREGORIAN
BEGIN:VTIMEZONE
TZID:Australia/
BEGIN:STANDARD
TZOFFSETFROM:+1100
RRULE:FREQ=YEARLY;BYMONTH=4;BYDAY=1SU
DTSTART:20080406T030000
TZNAME:
TZOFFSETTO:+
END:STANDARD
BEGIN:DAYLIGHT
TZOFFSETFROM:+
RRULE:FREQ=YEARLY;BYMONTH=10;BYDAY=1SU
DTSTART:20081005T020000
TZNAME:AEDT
TZOFFSETTO:+1100
END:DAYLIGHT
END:VTIMEZONE
BEGIN:VEVENT
CREATED:20260425T020033
UID:Property20430278Inspection52757311
DTEND;TZID=Australia/:20200229T113000
TRANSP:OPAQUE
SUMMARY:Open For Inspection: 220/48-56 Bundarra Street, ERMINGTON
DESCRIPTION:Spacious 2Bed +Study Unit with District Views - Ideally situation on the 2nd floor of the 'Safari II' building you will discover this executive 2bed apartment which enjoys an abundance spaces with natural light and stunning view as well. 


Features

- Open Plan Living & Dining Area with Timber Tiles
- Spacious Bedrooms with Built-in Robes & Wool Blend Carpet
- Generous Study Area 
- Stylish Kitchen with Smeg Stainless Steel Appliances 
- Composite Stone Benchtops & Mirror Splash Backs
- Split Air Conditioning to Living Area 
- Secure 1 Car Parking Spaces & Secure Video Intercom System


Just next to the North side of Parramatta river, only 10 minutes to West Ryde, Eastwood, 14 minutes to Epping, 20 minutes to Sydney CBD and just 15 minutes to Macquarie business park, Macquarie university. 

Also there are many nearby bus stops direct to Sydney city, Parramatta, West Ryde, Burwood, Macquarie, and the ferry in Parramatta River is also under construction for more convenience life style. It is only 5 minutes to the Woolworth supermarket you can buy everything you need just on foot and also 7 minutes drive to Rydalmere ALDI or Eastwood. 


Please do not hesitate to contact Kevin on 0426 987 272 if you have any questions. 

LAST-MODIFIED:20260425T020033
DTSTAMP:20260425T020033
DTSTART;TZID=Australia/:20200229T110000
LOCATION:220/48-56 Bundarra Street ERMINGTON NSW 2115
URL:http://www.sweetrealty.com.au/20430278
SEQUENCE:0
END:VEVENT
END:VCALENDAR
