BEGIN:VCALENDAR
VERSION:2.0
PRODID:-//Apple Inc.//iCal 5.0.2//EN
CALSCALE:GREGORIAN
BEGIN:VTIMEZONE
TZID:Australia/
BEGIN:STANDARD
TZOFFSETFROM:+1100
RRULE:FREQ=YEARLY;BYMONTH=4;BYDAY=1SU
DTSTART:20080406T030000
TZNAME:
TZOFFSETTO:+
END:STANDARD
BEGIN:DAYLIGHT
TZOFFSETFROM:+
RRULE:FREQ=YEARLY;BYMONTH=10;BYDAY=1SU
DTSTART:20081005T020000
TZNAME:AEDT
TZOFFSETTO:+1100
END:DAYLIGHT
END:VTIMEZONE
BEGIN:VEVENT
CREATED:20260425T003528
UID:Property20631473Inspection53751192
DTEND;TZID=Australia/:20210227T110000
TRANSP:OPAQUE
SUMMARY:Open For Inspection: 21/45 The boulevarde, STRATHFIELD
DESCRIPTION:Split Level | 2 Balconies I 300m to the Plaza and Station - Set within a boutique complex, this oversized 2bedroom unit has large contemporary living spaces that flow two entertaining balconies.  

Its central location is a stroll to Strathfield station, cafes, schools, parks and restaurants. 


Features:

- Oversized living area and two exceptionally large bedrooms
- Two study alcoves
- Two modern & stylish bathrooms
- Huge open plan living areas with 2 balconies
- Featuring air-conditioning and internal laundry 
- Security Intercom and lift
- Car space plus storage
- Walk to Santa Sabina, Trinity & Meriden and 3 mins to Strathfield Station


Please feel free to contact Hannah on 0406 517 601 if you have any questions. 



DISCLAIMER: The description and property features in this advertisement may not accurately reflect the current features of the property including the building facilities. Please get your own research for more details for the property and the building. 


LAST-MODIFIED:20260425T003528
DTSTAMP:20260425T003528
DTSTART;TZID=Australia/:20210227T104500
LOCATION:21/45 The boulevarde STRATHFIELD NSW 2135
URL:http://www.sweetrealty.com.au/20631473
SEQUENCE:0
END:VEVENT
END:VCALENDAR
