BEGIN:VCALENDAR
VERSION:2.0
PRODID:-//Apple Inc.//iCal 5.0.2//EN
CALSCALE:GREGORIAN
BEGIN:VTIMEZONE
TZID:Australia/
BEGIN:STANDARD
TZOFFSETFROM:+1100
RRULE:FREQ=YEARLY;BYMONTH=4;BYDAY=1SU
DTSTART:20080406T030000
TZNAME:
TZOFFSETTO:+
END:STANDARD
BEGIN:DAYLIGHT
TZOFFSETFROM:+
RRULE:FREQ=YEARLY;BYMONTH=10;BYDAY=1SU
DTSTART:20081005T020000
TZNAME:AEDT
TZOFFSETTO:+1100
END:DAYLIGHT
END:VTIMEZONE
BEGIN:VEVENT
CREATED:20260425T012328
UID:Property20212042Inspection52756497
DTEND;TZID=Australia/:19700101T000000
TRANSP:OPAQUE
SUMMARY:Open For Inspection: 12/1 Beddoes Avenue, Dubbo
DESCRIPTION:Affordable retirement living at it's best! - Located in Kimberly Grove, this wonderful 2 bedroom unit with single lock up garage and large courtyard is ideal for those looking to downsize but keep their complete independence. Just a 2 minute drive to Orana Mall, Western Plains Medical Centre and still just 5 minutes to the CBD, it is ideally located to all ammenities.  
The lounge room features cathedral ceilings and is bathed in natural sunlight, this flows thru to the kitchen and dining areas.  The kitchen offers an abundance of bench space along with breakfast bar and cupboards galore.  The dining area will easily accommodate a 6 seater table and a large wall unit with ease.
This unit offers you 2 large bedrooms, with built-in wardrobes in both and the bedrooms are separated by the bathroom.
The large paved courtyard has a retractable awning to adjust depending on the season and overlooks the raised garden beds ideal for a veggie patch or if you have a green thumb, you can make this area your own!
Kimberly Grove offers a community hall and in ground swimming pool, ideal when Summer returns once again!

LAST-MODIFIED:20260425T012328
DTSTAMP:20260425T012328
DTSTART;TZID=Australia/:19700101T100000
LOCATION:12/1 Beddoes Avenue Dubbo NSW 2830
URL:http://www.sonyahogan.com.au/20212042
SEQUENCE:0
END:VEVENT
END:VCALENDAR
