BEGIN:VCALENDAR
VERSION:2.0
PRODID:-//Apple Inc.//iCal 5.0.2//EN
CALSCALE:GREGORIAN
BEGIN:VTIMEZONE
TZID:Australia/
BEGIN:STANDARD
TZOFFSETFROM:+1100
RRULE:FREQ=YEARLY;BYMONTH=4;BYDAY=1SU
DTSTART:20080406T030000
TZNAME:
TZOFFSETTO:+
END:STANDARD
BEGIN:DAYLIGHT
TZOFFSETFROM:+
RRULE:FREQ=YEARLY;BYMONTH=10;BYDAY=1SU
DTSTART:20081005T020000
TZNAME:AEDT
TZOFFSETTO:+1100
END:DAYLIGHT
END:VTIMEZONE
BEGIN:VEVENT
CREATED:20260425T012422
UID:Property20331936Inspection52756498
DTEND;TZID=Australia/:20200307T114500
TRANSP:OPAQUE
SUMMARY:Open For Inspection: 47 Fairview Street, Dubbo
DESCRIPTION:Highly sort after South Dubbo... - Don't miss your opportunity to purchase this home in ever popular South Dubbo.  This home oozes street appeal with the rendered brick, stacked stone and timber features.  Featuring a large master bedroom complete with walk-in robe and ensuite.  The remaining 2 bedrooms offer built-ins and ceiling fans.  A large north facing lounge room will ensure your main living area will be light and airy at anytime of the year.  This leads thru to a large tiled family room and kitchen.  The well designed kitchen will suit the chef in your family and features a large pantry, appliance cupboard and stainless steel appliances.  French doors lead you outside to the raised timber deck complete with LED lighting and stainless steel bannister railing.  The ensuite and main bathroom are very neutral, are are the colours through the home, ensuring any decor will blend easily.  With easy care gardens, a free standing man cave shed in the backyard, this home will suit just about anyone...whether you are buying your first property, downsizing or wanting a solid investment property.  With a single lockup garage with internal access, double carport, evaporative cooling along with a split system, this home should be on the top of your inspection list!
LAST-MODIFIED:20260425T012422
DTSTAMP:20260425T012422
DTSTART;TZID=Australia/:20200307T111500
LOCATION:47 Fairview Street Dubbo NSW 2830
URL:http://www.sonyahogan.com.au/20331936
SEQUENCE:0
END:VEVENT
END:VCALENDAR
