BEGIN:VCALENDAR
VERSION:2.0
PRODID:-//Apple Inc.//iCal 5.0.2//EN
CALSCALE:GREGORIAN
BEGIN:VTIMEZONE
TZID:Australia/
BEGIN:STANDARD
TZOFFSETFROM:+1100
RRULE:FREQ=YEARLY;BYMONTH=4;BYDAY=1SU
DTSTART:20080406T030000
TZNAME:
TZOFFSETTO:+
END:STANDARD
BEGIN:DAYLIGHT
TZOFFSETFROM:+
RRULE:FREQ=YEARLY;BYMONTH=10;BYDAY=1SU
DTSTART:20081005T020000
TZNAME:AEDT
TZOFFSETTO:+1100
END:DAYLIGHT
END:VTIMEZONE
BEGIN:VEVENT
CREATED:20260425T012421
UID:Property20415984Inspection52756501
DTEND;TZID=Australia/:20200307T124500
TRANSP:OPAQUE
SUMMARY:Open For Inspection: 94-96 Cass Street, Geurie
DESCRIPTION:Space to live...room to grow!! - Blue Wren Cottage is set amongst ½ acre of established, easy care and irrigated gardens, in the lovely village of Geurie, just an easy 15 minute drive from Dubbo.   This family friendly home offers you 4 large bedrooms all with built-ins plus an office that could easily be converted to a 5th bedroom.  The master has a large window overlooking the gardens with a federation style ensuite and is accessed off the formal lounge room, essentially making this living area a parent's retreat.  A spacious tiled family room flows thru to the well equipped kitchen with an abundance of bench space and storage and you continue thru to a dining area that overlooks the front gardens.  There is a large tiled sunroom with the perfect northerly aspect and comes complete with slow combustion wood fire and a beautiful indoor spa bath. Stepping outside, if you love to entertain then we have a beautiful covered entertaining area, stunning inground salt water swimming pool.  There is an orchard area with plums, apricot, peach, apples, fig and pear trees and plenty of room to expand.  NOW, if it is shedding you require look no further!!  We have a 12m x 6m colourbond shed with 3 phase power, with a separate workshop area with air conditioning and remote door.  In addition, we have a 11m x 4m shed with a 9m x 4m skillion style carport attached, both with side access from the street!  We have 2 x 30,000 rain water tanks plumbed to the house and the pool is serviced by a 20,000 rain water tank.  With a  brand new Dakin reverse cycle air conditioning system installed, all lights now LED, and a new pool pump, this home is ready for you to move straight into!
LAST-MODIFIED:20260425T012421
DTSTAMP:20260425T012421
DTSTART;TZID=Australia/:20200307T121500
LOCATION:94-96 Cass Street Geurie NSW 2818
URL:http://www.sonyahogan.com.au/20415984
SEQUENCE:0
END:VEVENT
END:VCALENDAR
