BEGIN:VCALENDAR
VERSION:2.0
PRODID:-//Apple Inc.//iCal 5.0.2//EN
CALSCALE:GREGORIAN
BEGIN:VTIMEZONE
TZID:Australia/
BEGIN:STANDARD
TZOFFSETFROM:+1100
RRULE:FREQ=YEARLY;BYMONTH=4;BYDAY=1SU
DTSTART:20080406T030000
TZNAME:
TZOFFSETTO:+
END:STANDARD
BEGIN:DAYLIGHT
TZOFFSETFROM:+
RRULE:FREQ=YEARLY;BYMONTH=10;BYDAY=1SU
DTSTART:20081005T020000
TZNAME:AEDT
TZOFFSETTO:+1100
END:DAYLIGHT
END:VTIMEZONE
BEGIN:VEVENT
CREATED:20260425T012442
UID:Property20286361Inspection52756503
DTEND;TZID=Australia/:20200307T140000
TRANSP:OPAQUE
SUMMARY:Open For Inspection: 22R Oakdene Road, Dubbo
DESCRIPTION:Live the Lifestyle Dream.... - This immaculate 21.5 acre property is located just 15 minutes from the CBD and offers commanding views to the south.  
Offering a residence that doesn't fail to deliver, this beautiful family home features 4 bedrooms, 2 bathrooms, formal lounge & spacious casual living off the well equipped kitchen. With a rear generous alfresco area, positioned perfectly to take in the rural landscape. 
This property offers you quality infrastructure especially if you're are horse lovers!  Boasting a 18m x 15m shed with 3 stables, wash bay and tack room along with a full size dressage arena.  Fenced into 6 paddocks, with excellent fencing and an equipped bore along with a 100,000 litre rain water tank off the house and 3 x 22,500 litre tanks off the shed.  Not forgetting there is a freestanding 6m x 6m colour bond garage with attached 6m x 3m carport closer to the house with concrete floor and power connected.
Let your imagination run wild to see what opportunities this property holds. Retire peacefully on your own tranquil parcel of land or move the family in and live out your rural lifestyle dream!

LAST-MODIFIED:20260425T012442
DTSTAMP:20260425T012442
DTSTART;TZID=Australia/:20200307T133000
LOCATION:22R Oakdene Road Dubbo NSW 2830
URL:http://www.sonyahogan.com.au/20286361
SEQUENCE:0
END:VEVENT
END:VCALENDAR
