BEGIN:VCALENDAR
VERSION:2.0
PRODID:-//Apple Inc.//iCal 5.0.2//EN
CALSCALE:GREGORIAN
BEGIN:VTIMEZONE
TZID:Australia/
BEGIN:STANDARD
TZOFFSETFROM:+1100
RRULE:FREQ=YEARLY;BYMONTH=4;BYDAY=1SU
DTSTART:20080406T030000
TZNAME:
TZOFFSETTO:+
END:STANDARD
BEGIN:DAYLIGHT
TZOFFSETFROM:+
RRULE:FREQ=YEARLY;BYMONTH=10;BYDAY=1SU
DTSTART:20081005T020000
TZNAME:AEDT
TZOFFSETTO:+1100
END:DAYLIGHT
END:VTIMEZONE
BEGIN:VEVENT
CREATED:20260425T012441
UID:Property20341583Inspection52756505
DTEND;TZID=Australia/:20200305T123000
TRANSP:OPAQUE
SUMMARY:Open For Inspection: 126 Wingewarra Street, Dubbo
DESCRIPTION:Ideal Air BNB prospect!!! - Looks can be completely deceiving!  Ideally located just a 3 minute drive to the CBD and Orana Mall, if you want central Dubbo, look no further. So if your looking to invest in real estate rather than earn little in the bank, you should definitely consider this home!  Boasting a huge master bedroom with walk-in robe, large ensuite and a home office area at the top of the stairs.  3 large bedrooms downstairs easily accommodate queen size beds, 2 have large built-ins.  A highlight of this home is the galley style kitchen with a large servery to the enormous north facing family room and dining area.  This room in winter is an absolute delight.  As Summer quickly approaches, the in ground swimming pool is sure to delight, afternoons and evenings can be spent watching the kids frolic whilst sitting under the covered and paved entertaining area. With the ability to furnish and have as an Air BNB, the returns will be amazing!
LAST-MODIFIED:20260425T012441
DTSTAMP:20260425T012441
DTSTART;TZID=Australia/:20200305T120000
LOCATION:126 Wingewarra Street Dubbo NSW 2830
URL:http://www.sonyahogan.com.au/20341583
SEQUENCE:0
END:VEVENT
END:VCALENDAR
