BEGIN:VCALENDAR
VERSION:2.0
PRODID:-//Apple Inc.//iCal 5.0.2//EN
CALSCALE:GREGORIAN
BEGIN:VTIMEZONE
TZID:Australia/
BEGIN:STANDARD
TZOFFSETFROM:+1100
RRULE:FREQ=YEARLY;BYMONTH=4;BYDAY=1SU
DTSTART:20080406T030000
TZNAME:
TZOFFSETTO:+
END:STANDARD
BEGIN:DAYLIGHT
TZOFFSETFROM:+
RRULE:FREQ=YEARLY;BYMONTH=10;BYDAY=1SU
DTSTART:20081005T020000
TZNAME:AEDT
TZOFFSETTO:+1100
END:DAYLIGHT
END:VTIMEZONE
BEGIN:VEVENT
CREATED:20260425T003448
UID:Property20645854Inspection53762215
DTEND;TZID=Australia/:20210304T123000
TRANSP:OPAQUE
SUMMARY:Open For Inspection: 56 Wheelers Lane, Dubbo
DESCRIPTION:Renovated and ready to go now!! - With an amazing central location to Orana Mall, Dubbo Base Hospital, TAFE, CSU, schools and day care centres, this property well located to everywhere, and the CBD being only a 5 minute drive away.
The owners have tastefully renovated and is ready for you to move straight into.  Boasting a brand new kitchen, new carpets and flooring and has been professionally painted throughout with a beautiful new colour scheme that will suit any decor!  
Offering you 3 bedrooms, the master offers a large built-in, ceiling fan and window mounted air conditioning unit.  There is a brand new split system, ceiling fans in the bedrooms, along with a window mounted unit the main bedroom.  
This home is fully fenced with a single carport that allows easy access into the back yard, complete with paved pergola area, fruit trees and plenty of room for a shed or swimming pool.


LAST-MODIFIED:20260425T003448
DTSTAMP:20260425T003448
DTSTART;TZID=Australia/:20210304T120000
LOCATION:56 Wheelers Lane Dubbo NSW 2830
URL:http://www.sonyahogan.com.au/20645854
SEQUENCE:0
END:VEVENT
END:VCALENDAR
