BEGIN:VCALENDAR
VERSION:2.0
PRODID:-//Apple Inc.//iCal 5.0.2//EN
CALSCALE:GREGORIAN
BEGIN:VTIMEZONE
TZID:Australia/
BEGIN:STANDARD
TZOFFSETFROM:+1100
RRULE:FREQ=YEARLY;BYMONTH=4;BYDAY=1SU
DTSTART:20080406T030000
TZNAME:
TZOFFSETTO:+
END:STANDARD
BEGIN:DAYLIGHT
TZOFFSETFROM:+
RRULE:FREQ=YEARLY;BYMONTH=10;BYDAY=1SU
DTSTART:20081005T020000
TZNAME:AEDT
TZOFFSETTO:+1100
END:DAYLIGHT
END:VTIMEZONE
BEGIN:VEVENT
CREATED:20260425T000517
UID:Property20628524Inspection53751100
DTEND;TZID=Australia/:19700101T000000
TRANSP:OPAQUE
SUMMARY:Open For Inspection: 109/90 Epping Road, EPPING
DESCRIPTION:Affordable Apartment with Optional Second Bedroom - UNIVERSAL REAL ESTATE VIC NORTH PROUDLY PRESENT, boasting a "walk to everything location", this lifestyle is one of the best apartments in Epping. Set in a boutique complex with lush green views, it is a private sanctuary tucked away from the hustle and bustle. 
Set in a well-maintained complex, this one-bedroom + Optional second Kids Bedroom  apartment offers:-
- Easy-care and resort-style living with peaceful garden surrounds.
- Elegant open plan living and dining flows to the covered entertaining balcony with a garden view
- Modern kitchen with stainless steel appliances, gas cooktop, dishwasher, stone benchtop and 
  ample cupboard space.
- Massive bedroom with build-in robe and split A/C
- Featured bathroom, internal laundry and separate study area
- Secured building, intercom system, basement car space with lift access and cage storage 
  above 
Ideally located opposite to Epping North Shopping Centre, parks, shops, clinics and easy bus access to Epping Train Station.
 
- Walking distance to Epping View Primary School.
- Walking distance to Kinder Garden
- Walking distance to Al Siraat College.
- Walking distance to High street Epping vet clinic
- Close to Epping Plaza and Northern Hospital.

Ideal for First home buyer or investor. 
Don't miss out! Call: Gavin on 0466 052 158 or Bilos on 0434 087 334.

DISCLAIMER: All stated dimensions are approximate only and all photos are for illustration purposes only. Particulars given are for general information only and do not constitute any representation on the part of the vendor or agent

LAST-MODIFIED:20260425T000517
DTSTAMP:20260425T000517
DTSTART;TZID=Australia/:19700101T100000
LOCATION:109/90 Epping Road EPPING VIC 3076
URL:http://www.urevic.com.au/20628524
SEQUENCE:0
END:VEVENT
END:VCALENDAR
