BEGIN:VCALENDAR
VERSION:2.0
PRODID:-//Apple Inc.//iCal 5.0.2//EN
CALSCALE:GREGORIAN
BEGIN:VTIMEZONE
TZID:Australia/
BEGIN:STANDARD
TZOFFSETFROM:+1100
RRULE:FREQ=YEARLY;BYMONTH=4;BYDAY=1SU
DTSTART:20080406T030000
TZNAME:
TZOFFSETTO:+
END:STANDARD
BEGIN:DAYLIGHT
TZOFFSETFROM:+
RRULE:FREQ=YEARLY;BYMONTH=10;BYDAY=1SU
DTSTART:20081005T020000
TZNAME:AEDT
TZOFFSETTO:+1100
END:DAYLIGHT
END:VTIMEZONE
BEGIN:VEVENT
CREATED:20260425T000741
UID:Property20637843Inspection53754307
DTEND;TZID=Australia/:20210306T123000
TRANSP:OPAQUE
SUMMARY:Open For Inspection: 162 Wallara Waters Boulevard, WALLAN
DESCRIPTION:A new lifestyle with Caravan Parking! - Universal Real Estate Vic proudly presents a statement in bespoke design. This luxury residence assures comfort and style while seamlessly blending indoor/outdoor living. Holding a prestige address, it's just close to quality schools and Trains to CBD with rapid access. This luxuriously appointed and elegant family home is ultimate for those seeking to enjoy serenity and refined modern living.
SPECIFICATIONS:
• BEDROOMS: This elegant home has 5 bedrooms. The large master bedroom comes complete with an ensuite and plenty of natural lights and a walk-in robe with sliding doors. Other 3 bedrooms with built-in robes.
• CENTRAL BATHROOM: 2 x main bathrooms one downstairs and one upstairs servicing the bedrooms.
• KITCHEN 1: Open Plan living dining kitchen with stone benchtop, 900mm gas cooktop, electric oven, dishwasher, walk-in pantry, ample cupboard space, fixed window splashback overlooking the side yard.
• KITCHEN 2: Outdoor alfresco kitchen with gas cooktop, ample cupboard space and custom design sitting area next to the kitchen.
• LIVING AREAS: Formal lounge, massive family living, separate office/study, theatre/ 5th bedroom and retreat upstairs.
• LAUNDRY: Separate laundry with cupboard space
• DRIVEWAY: This place offers you 2 x exposed aggregative driveway, the potential of approx. 5-6 car space.
• BACKYARD: Low maintenance backyard with concrete around the house and side yard garden for kids to play.
• PARKING: Double car garage with remote control and internal access. Wooden side gate for a truck to enter into the side yard.
• ADDITIONAL INCLUSIONS: Ducted Heating, 2 x split systems, High ceiling throughout, Ceiling fans, chandelier and much more.
• LOCATION: In the coming future Wallan is going to be one of the best locations for schools and colleges and this property is really close to Lady of the Way Catholic Primary School, Wallan Secondary College. It also has additional amenities like Wallan Medical Centre, Playground, Wallan Community Park and supermarkets.

This house is ready to move in and a complete package for you.

If you are in the market for an all-around property then look no further than this. 

Don't miss out! Call :
Varun  Makar : 0451 849 477
Achal Arora: 0432 413 929

DISCLAIMER: All stated dimensions are approximate only and all photos are for illustration purposes only. Particulars given are for general information only and do not constitute any representation on the part of the vendor or agent 

LAST-MODIFIED:20260425T000741
DTSTAMP:20260425T000741
DTSTART;TZID=Australia/:20210306T120000
LOCATION:162 Wallara Waters Boulevard WALLAN VIC 3756
URL:http://www.urevic.com.au/20637843
SEQUENCE:0
END:VEVENT
END:VCALENDAR
