BEGIN:VCALENDAR
VERSION:2.0
PRODID:-//Apple Inc.//iCal 5.0.2//EN
CALSCALE:GREGORIAN
BEGIN:VTIMEZONE
TZID:Australia/
BEGIN:STANDARD
TZOFFSETFROM:+1100
RRULE:FREQ=YEARLY;BYMONTH=4;BYDAY=1SU
DTSTART:20080406T030000
TZNAME:
TZOFFSETTO:+
END:STANDARD
BEGIN:DAYLIGHT
TZOFFSETFROM:+
RRULE:FREQ=YEARLY;BYMONTH=10;BYDAY=1SU
DTSTART:20081005T020000
TZNAME:AEDT
TZOFFSETTO:+1100
END:DAYLIGHT
END:VTIMEZONE
BEGIN:VEVENT
CREATED:20260425T015557
UID:Property20398709Inspection52695602
DTEND;TZID=Australia/:20200229T110000
TRANSP:OPAQUE
SUMMARY:Open For Inspection: 2/27 Newdegate Street, GREENSLOPES
DESCRIPTION:This Stylish Apartment.....MUST SELL! - This modern, stylish, 103sqm, 2 bedroom apartment is located in the highly sought after inner Brisbane suburb of Greenslopes.  

This property has a contemporary open floor plan and an abundance of luxurious details offering absolute comfort and style. The master bedroom features a beautiful en-suite bathroom and air-conditioning can be found in both the master bedroom and living area. The apartment has a beautifully selected neutral colour palette, wood look laminate flooring and carpeted bedrooms.
 
The balcony, which extends off the spacious living area, looks over the quiet yet conveniently located Newdegate Street.  The new owner will also enjoy the benefits of a wonderful rooftop entertainment area.  Newdegate Street has an abundance of character style homes, most beautifully renovated, that exquisitely reflect the heritage of Greenslopes' architectural design. 

Absolutely perfect for a professional couple as it has such a convenient 6.8km commute to the Brisbane CBD or a brilliant investment as this property is highly sought after by quality tenants. 

-2nd storey apartment 
-Picture perfect bathrooms and design 
-Air-conditioning in master bedroom and living area
-Generous master bedroom with en-suite 
-1 car garage and ample street parking 
-Modern kitchen design and fittings 
-Electric oven and stove top 
-Balcony perfect for entertaining 
-10 minutes to Brisbane CBD 
-Very affordable Body Corporate Fees 
-Small block of units 
-SCHEDULED FOR AUCTION on 29/02/2020 

DON'T MISS OUT - Register your interest NOW!
LAST-MODIFIED:20260425T015557
DTSTAMP:20260425T015557
DTSTART;TZID=Australia/:20200229T101500
LOCATION:2/27 Newdegate Street GREENSLOPES QLD 4120
URL:http://www.remaxresults.com.au/20398709
SEQUENCE:0
END:VEVENT
END:VCALENDAR
