BEGIN:VCALENDAR
VERSION:2.0
PRODID:-//Apple Inc.//iCal 5.0.2//EN
CALSCALE:GREGORIAN
BEGIN:VTIMEZONE
TZID:Australia/
BEGIN:STANDARD
TZOFFSETFROM:+1100
RRULE:FREQ=YEARLY;BYMONTH=4;BYDAY=1SU
DTSTART:20080406T030000
TZNAME:
TZOFFSETTO:+
END:STANDARD
BEGIN:DAYLIGHT
TZOFFSETFROM:+
RRULE:FREQ=YEARLY;BYMONTH=10;BYDAY=1SU
DTSTART:20081005T020000
TZNAME:AEDT
TZOFFSETTO:+1100
END:DAYLIGHT
END:VTIMEZONE
BEGIN:VEVENT
CREATED:20260425T015412
UID:Property20405014Inspection52744287
DTEND;TZID=Australia/:20200229T103000
TRANSP:OPAQUE
SUMMARY:Open For Inspection: 92/1914 Creek Road, Cannon Hill
DESCRIPTION:Private, Easy-Care Lifestyle - Boasting a highly sought-after city fringe lifestyle with the added appeal of parks and space, this townhome is sure to please.

With strong architectural elements, spacious interiors and the convenience of being surrounded by local amenities, this contemporary two level home offers a convenient lifestyle opportunity.

Inside, an open plan design offers neutral tones, sleek tiles and quality finishes. A functional modern kitchen features stone benchtops and stainless steel appliances, effortlessly opening out onto a private alfresco entertaining space.

The upper level provides three well sized carpeted bedrooms, all with built-ins, air conditioning, fans and main bathroom. The master bedroom is complete with an ensuite and private balcony for air-flow and natural light. 

Additional Features:

&bull;	Two levels with a total living space of 110.6 sqm
&bull;	Master suite with private balcony, AC and ensuite
&bull;	Spacious bedrooms with built-in robes, AC, ceiling fans
&bull;	Kitchen features stone benchtops, gas cooktop and breakfast bar
&bull;	A/C in living room
&bull;	Separate laundry with additional WC
&bull;	Landscaped courtyard
&bull;	Complex features pool, gym and BBQ area


You will love the easy access to public transport, schools, Cannon Hill and Carindale shopping complexes and just 6.5km from Brisbane's CBD. An excellent opportunity presents itself for investors or home owners alike.
LAST-MODIFIED:20260425T015412
DTSTAMP:20260425T015412
DTSTART;TZID=Australia/:20200229T100000
LOCATION:92/1914 Creek Road Cannon Hill QLD 4170
URL:http://www.remaxresults.com.au/20405014
SEQUENCE:0
END:VEVENT
END:VCALENDAR
