BEGIN:VCALENDAR
VERSION:2.0
PRODID:-//Apple Inc.//iCal 5.0.2//EN
CALSCALE:GREGORIAN
BEGIN:VTIMEZONE
TZID:Australia/
BEGIN:STANDARD
TZOFFSETFROM:+1100
RRULE:FREQ=YEARLY;BYMONTH=4;BYDAY=1SU
DTSTART:20080406T030000
TZNAME:
TZOFFSETTO:+
END:STANDARD
BEGIN:DAYLIGHT
TZOFFSETFROM:+
RRULE:FREQ=YEARLY;BYMONTH=10;BYDAY=1SU
DTSTART:20081005T020000
TZNAME:AEDT
TZOFFSETTO:+1100
END:DAYLIGHT
END:VTIMEZONE
BEGIN:VEVENT
CREATED:20260425T015510
UID:Property20327715Inspection52745058
DTEND;TZID=Australia/:20200229T111500
TRANSP:OPAQUE
SUMMARY:Open For Inspection: 10 Clearview Street, BELMONT
DESCRIPTION:Family Value! - With multiple living spaces and generous alfresco entertaining, this home is perfect for a large family who enjoys making the most of our Beautiful Brisbane Climate. Additionally, yours to enjoy are;
* Large, modern, galley style kitchen with stone benches, gas cook-top and dishwasher ideally positioned to serve a more formal dinner or a relaxed outdoor BBQ
* Spacious outdoor entertaining overlooking the low maintenance, fully fenced yard
* Formal and informal Lounge rooms means space for everyone and and the additional dining area means you have flexibility when entertaining
* Your ensuite, main bath and powder room are all finished in neutral tones and will mean no more queuing on busy mornings
* 4 spacious, built-in bedrooms on the upper level plus a large study downstairs which could easily be a 5th bedroom for guests
* Air-conditioned to ensure year-round comfort 
* Double remote garage and additional off-street parking
* A couple of minutes drive and you are on the Motorway to the Airport or up and down the coast
* Easy walk to park and just a little further to Belmont shopping village with everything from an Award-winning bakery to Chemist, Medical Centre, Newsagent, Tavern, Pizzeria, Grocery store, Hairdresser and Newsagent

Ideal for the family who loves to make the most of Brisbane living, put this one on your list to see today!
LAST-MODIFIED:20260425T015510
DTSTAMP:20260425T015510
DTSTART;TZID=Australia/:20200229T103000
LOCATION:10 Clearview Street BELMONT QLD 4153
URL:http://www.remaxresults.com.au/20327715
SEQUENCE:0
END:VEVENT
END:VCALENDAR
