BEGIN:VCALENDAR
VERSION:2.0
PRODID:-//Apple Inc.//iCal 5.0.2//EN
CALSCALE:GREGORIAN
BEGIN:VTIMEZONE
TZID:Australia/
BEGIN:STANDARD
TZOFFSETFROM:+1100
RRULE:FREQ=YEARLY;BYMONTH=4;BYDAY=1SU
DTSTART:20080406T030000
TZNAME:
TZOFFSETTO:+
END:STANDARD
BEGIN:DAYLIGHT
TZOFFSETFROM:+
RRULE:FREQ=YEARLY;BYMONTH=10;BYDAY=1SU
DTSTART:20081005T020000
TZNAME:AEDT
TZOFFSETTO:+1100
END:DAYLIGHT
END:VTIMEZONE
BEGIN:VEVENT
CREATED:20260425T015509
UID:Property20421729Inspection52745299
DTEND;TZID=Australia/:20200229T103000
TRANSP:OPAQUE
SUMMARY:Open For Inspection: 230 Ferguson Road, SEVEN HILLS
DESCRIPTION:Calling all Renovators/Developers - Calling all Renovators/Developers

Brilliant aspect perfect wide frontage with a livable 4 bedrooms semi lowset home on site.
Boasting a two street frontage with potential for great views over Norman Park and on to the CBD.
Ideal for those who seek a project to renovate in a prime Norman Park/Seven Hills position or those seeking a rebuild / knock over with a wide frontage in a highly sought after enclave.
With sewer and water connections in place this one is ready for you to explore the position and potential. Set in the sought after Seven Hills State School catchment and an easy stroll to parkland, transport, coffee and restaurants. It's easy to see this property ticks all the boxes for location, possibilities and opportunity.

* Brilliant North East Aspect
* Two Street Frontage
* Wide 12.2M 405M2 Allotment
* Quiet Leafy Position
* A Breath from Transport
* Stroll to Coffee/Restaurants 
* Walking Distance to St Thomas School
* Close to Camp Hill Bowls 
* Highly Prized Enclave

Unlock its potential... create your aspiration but inspect this one as soon as you can as a property of its calibre is selling very quickly.


 


LAST-MODIFIED:20260425T015509
DTSTAMP:20260425T015509
DTSTART;TZID=Australia/:20200229T100000
LOCATION:230 Ferguson Road SEVEN HILLS QLD 4170
URL:http://www.remaxresults.com.au/20421729
SEQUENCE:0
END:VEVENT
END:VCALENDAR
