BEGIN:VCALENDAR
VERSION:2.0
PRODID:-//Apple Inc.//iCal 5.0.2//EN
CALSCALE:GREGORIAN
BEGIN:VTIMEZONE
TZID:Australia/
BEGIN:STANDARD
TZOFFSETFROM:+1100
RRULE:FREQ=YEARLY;BYMONTH=4;BYDAY=1SU
DTSTART:20080406T030000
TZNAME:
TZOFFSETTO:+
END:STANDARD
BEGIN:DAYLIGHT
TZOFFSETFROM:+
RRULE:FREQ=YEARLY;BYMONTH=10;BYDAY=1SU
DTSTART:20081005T020000
TZNAME:AEDT
TZOFFSETTO:+1100
END:DAYLIGHT
END:VTIMEZONE
BEGIN:VEVENT
CREATED:20260425T015511
UID:Property19985124Inspection52745373
DTEND;TZID=Australia/:20200229T101000
TRANSP:OPAQUE
SUMMARY:Open For Inspection: 3/69 Stephens Street, Morningside
DESCRIPTION:OPEN CANCELLED :: Live the High life - Roof Terrace wt Full City Views. - LAST ONE LEFT! :: LUXE - Live the High life - Set at the top of the hill, you can hang up the Party Lights and enjoy the ultimate setting for entertaining from your own private rooftop terrace townhome with 360 degrees views of the city skyline or relax on your private back terrace.

An exclusive world of modern luxury awaits at these brand new architecturally designed properties, with a stunning private rooftop terrace with breath taking city views. 

With prime north-facing, gloriously elevated position, this luxury abode will satisfy the most discerning of buyers looking for the best of an executive lifestyle to call their very own. 

A smart layout, includes open plan living and state-of-the-art designer kitchen.
Designed to capture an abundance of natural light, these elegant property features tall glass doors and windows highlighting the rich timber features and quality fixtures and fittings throughout. Get set to enjoy the unique and ultimate setting ready made for entertaining family and friends from your own private rooftop terrace, while watching the sun set over the city skyline. 

There is nothing quite like this in Morningside, this is the LAST ONE LEFT!

Features include:
• 3 bedrooms with a purpose designed spacious deluxe master bedroom
• Master suite with walk-in robes, twin vanity en-suites
• Open plan living area, flowing out to entertaining courtyard
• Second living area
• BREATHTAKING Rooftop terrace with 360-degree views including full City views.
• 2.5 bathrooms 
• A superb kitchen you can be your chef's self in, not only aesthetically beautiful, but functional with high quality European appliances including 90cm induction cooktop, two ovens (one with steam), contemporary contrasting kitchen cabinetry, ample space behind soft-close drawers
• Stone benchtops
• Ducted air-conditioning
• Timber flooring in living areas 
• Carpets to bedrooms
• Bathroom retreats with floor-to-ceiling tiles 
• CHIC SPACIOUS Study 
• Built-in robes
• Separate laundry
• Private courtyard 
• Ground floor terraces or rooftop terraces 
• Double/single lockup garage option
• Low Body Corp

Located just 4.2km to the Brisbane CBD, these exquisite inner-city townhomes are conveniently located close to Morningside train station, Morningside Café precinct, the vibrant variety of Morningside shops, only minutes to Bulimba theatre, Bulimba ferry and historic Oxford Street, plethora of local restaurants and dining outlets, quality schools and major north and south arterial roads. 

Contact 
Varun Kapoor-Warren for an appointment to view
0431 405 105
warren@remax.com.au
LAST-MODIFIED:20260425T015511
DTSTAMP:20260425T015511
DTSTART;TZID=Australia/:20200229T093000
LOCATION:3/69 Stephens Street Morningside QLD 4170
URL:http://www.remaxresults.com.au/19985124
SEQUENCE:0
END:VEVENT
END:VCALENDAR
