BEGIN:VCALENDAR
VERSION:2.0
PRODID:-//Apple Inc.//iCal 5.0.2//EN
CALSCALE:GREGORIAN
BEGIN:VTIMEZONE
TZID:Australia/
BEGIN:STANDARD
TZOFFSETFROM:+1100
RRULE:FREQ=YEARLY;BYMONTH=4;BYDAY=1SU
DTSTART:20080406T030000
TZNAME:
TZOFFSETTO:+
END:STANDARD
BEGIN:DAYLIGHT
TZOFFSETFROM:+
RRULE:FREQ=YEARLY;BYMONTH=10;BYDAY=1SU
DTSTART:20081005T020000
TZNAME:AEDT
TZOFFSETTO:+1100
END:DAYLIGHT
END:VTIMEZONE
BEGIN:VEVENT
CREATED:20260425T015414
UID:Property20002167Inspection52745478
DTEND;TZID=Australia/:20200229T103000
TRANSP:OPAQUE
SUMMARY:Open For Inspection: 192 Agnew Street, Morningside
DESCRIPTION:THE PERFECT START - Superbly located in Morningside, bordering Norman Park and Seven Hills, 192 Agnew Street offers space and opportunity to add value to your new home. This modest home comprises of 3 bedrooms, 1 bathroom, multiple living areas, a picturesque entertaining deck overlooking your tropical garden, rumpus room, gentlemen's mancave/workshop and much more. 

Public transport is also very convenient with nearby bus stops and walking distance to the train station you are also within Seven Hills primary school catchment and walking distance to the Corso cafe precinct, it really is all about location. 

Property at a glance -

•	3 Bedrooms
•	1 Bathroom
•	Separate lounge
•	Sunroom/living room
•	Separate toilet
•	Rumpus room
•	Workshop
•	Large kitchen
•	1 Garage
•	Deck overlooking tropical garden
•	405m2

LAST-MODIFIED:20260425T015414
DTSTAMP:20260425T015414
DTSTART;TZID=Australia/:20200229T100000
LOCATION:192 Agnew Street Morningside QLD 4170
URL:http://www.remaxresults.com.au/20002167
SEQUENCE:0
END:VEVENT
END:VCALENDAR
