BEGIN:VCALENDAR
VERSION:2.0
PRODID:-//Apple Inc.//iCal 5.0.2//EN
CALSCALE:GREGORIAN
BEGIN:VTIMEZONE
TZID:Australia/
BEGIN:STANDARD
TZOFFSETFROM:+1100
RRULE:FREQ=YEARLY;BYMONTH=4;BYDAY=1SU
DTSTART:20080406T030000
TZNAME:
TZOFFSETTO:+
END:STANDARD
BEGIN:DAYLIGHT
TZOFFSETFROM:+
RRULE:FREQ=YEARLY;BYMONTH=10;BYDAY=1SU
DTSTART:20081005T020000
TZNAME:AEDT
TZOFFSETTO:+1100
END:DAYLIGHT
END:VTIMEZONE
BEGIN:VEVENT
CREATED:20260425T015503
UID:Property20408920Inspection52745592
DTEND;TZID=Australia/:20200229T140000
TRANSP:OPAQUE
SUMMARY:Open For Inspection: 3/90 Ison Street, Morningside
DESCRIPTION:Stylish living made easy - Come and live a peaceful and private lifestyle in this quality unit that brings space, style and privacy to its list of many special qualities. 

This freshly presented two-bedroom unit is quietly positioned in an immaculate complex of five and makes an ideal choice for those seeking a smart easy-to-maintain property that's well-appointed and presented in top condition. 

Interiors are fresh and modern with an open living/dining space that leads out to a north facing balcony that's ideal for outdoor entertaining. 
The kitchen has been stylishly updated and is fitted with quality appliances and a dishwasher, plus there are two double bedrooms, including a main that has an ensuite and access to the terrace. In addition, the property comes with air-conditioning, ceiling fans, a full main bathroom and internal laundry plus a lock-up garage on title.

This is a great first time or scale-down opportunity that has bus/train links to the city just a few footsteps away. It's also a few minutes away from the Oxford Street café precinct, local schools and shops.

Features include:
Crisp and fresh interiors feature a spacious open plan design
Large entertainment terrace with a bright north aspect will 
Quality kitchen equipped with sleek appliances and dishwasher 
Two double bedrooms, main with ensuite and balcony access
Air conditioning, ceiling fans and a lock-up garage 
Quietly positioned in a well-maintained block of five
A short stroll to cafes, shopping and transport options 
Body corp $3108.00 approx per year
LAST-MODIFIED:20260425T015503
DTSTAMP:20260425T015503
DTSTART;TZID=Australia/:20200229T133000
LOCATION:3/90 Ison Street Morningside QLD 4170
URL:http://www.remaxresults.com.au/20408920
SEQUENCE:0
END:VEVENT
END:VCALENDAR
