BEGIN:VCALENDAR
VERSION:2.0
PRODID:-//Apple Inc.//iCal 5.0.2//EN
CALSCALE:GREGORIAN
BEGIN:VTIMEZONE
TZID:Australia/
BEGIN:STANDARD
TZOFFSETFROM:+1100
RRULE:FREQ=YEARLY;BYMONTH=4;BYDAY=1SU
DTSTART:20080406T030000
TZNAME:
TZOFFSETTO:+
END:STANDARD
BEGIN:DAYLIGHT
TZOFFSETFROM:+
RRULE:FREQ=YEARLY;BYMONTH=10;BYDAY=1SU
DTSTART:20081005T020000
TZNAME:AEDT
TZOFFSETTO:+1100
END:DAYLIGHT
END:VTIMEZONE
BEGIN:VEVENT
CREATED:20260425T015504
UID:Property20317163Inspection52745593
DTEND;TZID=Australia/:20200229T103000
TRANSP:OPAQUE
SUMMARY:Open For Inspection: 4/69 Molloy Road, CANNON HILL
DESCRIPTION:Stylish Townhouse with Loft and Private Courtyard - Positioned in the booming suburb of Cannon Hill, This immaculately presented townhouse is perfectly suited for the first home owner, investor, families or corporate professionals.

Boasting three levels, the property features open plan lounge/dining area that flows out onto the courtyard, three spacious bedrooms with built ins, the master bedroom with its own private balcony has an ensuite.

The third level is where the air conditioned loft is located; this could easily be used as a sitting room, home office or kid's playroom.

The private courtyard is the perfect spot to unwind on your weekends.

The kitchen offers plenty of bench space and features stone bench tops, dishwasher, electric stove top, an oven and a range hood.
 
The list of features includes 

Quality kitchen featuring Caesar stone top with large breakfast bar.
Open plan living and meals with air-conditioning.
Air conditioned Loft with plenty of storage is located on the third level.
Sliding door that opens to the private courtyard ideal for entertaining on those special occasions.
Timber staircase.
Powder room on the lower level.
Single lock-up garage.
Secure front gate.
Separate laundry.
Ceiling fans.
Security Screens

Within walking distance to Morningside Central Shopping Centre, Cannon Hill Shopping Centre, private and state schools and public transport. The townhouse is situated approx. 7klms to the CBD and only a short commute to the bustling Oxford Street Bulimba Precinct. 
Its location is highly sort after. 

This townhouse presents a great opportunity for someone looking for low maintenance living in a great position with practically everything located nearby.

Body corp $3981.40 per year approx.

LAST-MODIFIED:20260425T015504
DTSTAMP:20260425T015504
DTSTART;TZID=Australia/:20200229T100000
LOCATION:4/69 Molloy Road CANNON HILL QLD 4170
URL:http://www.remaxresults.com.au/20317163
SEQUENCE:0
END:VEVENT
END:VCALENDAR
