BEGIN:VCALENDAR
VERSION:2.0
PRODID:-//Apple Inc.//iCal 5.0.2//EN
CALSCALE:GREGORIAN
BEGIN:VTIMEZONE
TZID:Australia/
BEGIN:STANDARD
TZOFFSETFROM:+1100
RRULE:FREQ=YEARLY;BYMONTH=4;BYDAY=1SU
DTSTART:20080406T030000
TZNAME:
TZOFFSETTO:+
END:STANDARD
BEGIN:DAYLIGHT
TZOFFSETFROM:+
RRULE:FREQ=YEARLY;BYMONTH=10;BYDAY=1SU
DTSTART:20081005T020000
TZNAME:AEDT
TZOFFSETTO:+1100
END:DAYLIGHT
END:VTIMEZONE
BEGIN:VEVENT
CREATED:20260425T015426
UID:Property20420202Inspection52745594
DTEND;TZID=Australia/:20200229T093000
TRANSP:OPAQUE
SUMMARY:Open For Inspection: 14 Kidwelly Street, CARINDALE
DESCRIPTION:Tranquil parkside lowset, metres from Westfield! - Boasting a picturesque and private setting, this inviting family residence sits directly opposite beautiful Carindale Park and easy cut-through pedestrian access to Westfield's shopping, dining and entertainment centre.

Set across sprawling 728M2 grounds, the stylish brick home's flowing single-level design captures glorious natural light and lush leafy outlooks from every window.  

High vaulted ceilings create a stunning sense of space in the north-facing living room which opens out to the glass-framed lagoon swimming pool. Fire up a barbeque under the poolside alfresco entertaining pavilion or head inside to prepare a family meal in the contemporary kitchen with its quality European appliances (including gas cooktop and dishwasher.)

Offering outstanding versatility, an additional family and dining room, onto a breezy outdoor terrace, perfect for that leisurely morning coffee and croissant!  Meanwhile, the home's three built-in bedrooms include a separate kids' 'wing' and huge private master featuring ensuite, direct poolside access and more than enough space to accommodate a cosy ready nook, infant's cot or integrated home office.

Featuring the luxury of reverse-cycle air-conditioning throughout, the home has also been beautifully appointed with slate and timber flooring as well as plush near-new carpet in all bedrooms. A large central bathroom with spa; insect screening; rainwater tank; double carport and additional driveway space for a trailer or jet-ski also feature.

Wander across the road to the bikeways, picnic and playgrounds of Carindale Park or stroll to Westfield in around five minutes.  Also within walking distance of transport, childcare and the highly regarded Belmont State School, this sublime address enjoys quick access to other elite schools, the Pacific Golf Club, Gateway Motorway and Bay.   


LAST-MODIFIED:20260425T015426
DTSTAMP:20260425T015426
DTSTART;TZID=Australia/:20200229T090000
LOCATION:14 Kidwelly Street CARINDALE QLD 4152
URL:http://www.remaxresults.com.au/20420202
SEQUENCE:0
END:VEVENT
END:VCALENDAR
