BEGIN:VCALENDAR
VERSION:2.0
PRODID:-//Apple Inc.//iCal 5.0.2//EN
CALSCALE:GREGORIAN
BEGIN:VTIMEZONE
TZID:Australia/
BEGIN:STANDARD
TZOFFSETFROM:+1100
RRULE:FREQ=YEARLY;BYMONTH=4;BYDAY=1SU
DTSTART:20080406T030000
TZNAME:
TZOFFSETTO:+
END:STANDARD
BEGIN:DAYLIGHT
TZOFFSETFROM:+
RRULE:FREQ=YEARLY;BYMONTH=10;BYDAY=1SU
DTSTART:20081005T020000
TZNAME:AEDT
TZOFFSETTO:+1100
END:DAYLIGHT
END:VTIMEZONE
BEGIN:VEVENT
CREATED:20260425T015505
UID:Property20408899Inspection52745595
DTEND;TZID=Australia/:20200229T113000
TRANSP:OPAQUE
SUMMARY:Open For Inspection: 65 Tennyson Street, NORMAN PARK
DESCRIPTION:Prestigious Poets Corner's finest house-alternative. - Representing the ultimate house-alternative, with the freedom of no body corporate, this huge multi-level residence sits in the prized Poets' Corner enclave.

Boasting its own exclusive Tennyson Street address and street frontage, the north-facing home extends across three floors, capturing superb leafy outlooks and hillside breezes.

From its striking curb appeal with pitched roofline, exposed brickwork and warm hardwood, to the as-new contemporary interior, this residence offers an exceptional sense of space and lifestyle versatility.

Rich timber flooring, a quality granite-topped kitchen and wall-to-wall glass doors define the central living and entertaining level. Ideal for Brisbane's indoor-outdoor lifestyle, the large adjoining deck presents the perfect all-weather space to dine alfresco style, prepare a feast on the barbeque and grow your favourite organic veggies and herbs in the northern sunlight!

Two plush carpeted bedrooms and the stylish floor-to-ceiling tiled main bathroom also reside on this level; while two further bedrooms sit privately one floor up, including the enormous master with sky-lit ensuite, walk-in dressing room area and balcony.

 The ground level hosts a fabulous multi-purpose space opening to a private courtyard.  The choice is yours as to how the room in utilised; perhaps a media room, teenager's retreat, professional home office/studio or even a further/guest bedroom!

Additional property highlights:
'My Air' zoned ducted air-conditioning (with smart-device control capability)
 Ceiling fans; Crimsafe/insect screening; double glazed windows in living and master
Spotless contemporary kitchen with granite breakfast bar and quality stainless steel 900mm oven, 5 burner gas cooktop and dishwasher. 
4 built-in bedrooms, master with ensuite, dressing area and northern balcony 
Floor-to-ceiling tiled bathrooms with high-end fittings; freestanding bathtub and frameless glass shower screens in main
Double remote integrated garage with storage room; laundry and private outdoor drying area

This prestigious address sits just a short walk from train or bus transport and 4km to the CBD by road.  Also located moments from the riverfront ferry terminal, local cafes, parkland and a choice of elite schools (including Anglican Church Grammar School, Lourdes Hill College and Norman Park State School), the diverse shopping and lifestyle precincts of Hawthorne, Oxford Street Bulimba and Coorparoo Square are all accessible in minutes. 

Designed for a low-maintenance, lock-and-leave lifestyle, this beautiful and private freehold residence offers the feel of a house without the usual Norman Park price-tag!

LAST-MODIFIED:20260425T015505
DTSTAMP:20260425T015505
DTSTART;TZID=Australia/:20200229T110000
LOCATION:65 Tennyson Street NORMAN PARK QLD 4170
URL:http://www.remaxresults.com.au/20408899
SEQUENCE:0
END:VEVENT
END:VCALENDAR
