BEGIN:VCALENDAR
VERSION:2.0
PRODID:-//Apple Inc.//iCal 5.0.2//EN
CALSCALE:GREGORIAN
BEGIN:VTIMEZONE
TZID:Australia/
BEGIN:STANDARD
TZOFFSETFROM:+1100
RRULE:FREQ=YEARLY;BYMONTH=4;BYDAY=1SU
DTSTART:20080406T030000
TZNAME:
TZOFFSETTO:+
END:STANDARD
BEGIN:DAYLIGHT
TZOFFSETFROM:+
RRULE:FREQ=YEARLY;BYMONTH=10;BYDAY=1SU
DTSTART:20081005T020000
TZNAME:AEDT
TZOFFSETTO:+1100
END:DAYLIGHT
END:VTIMEZONE
BEGIN:VEVENT
CREATED:20260425T015413
UID:Property20399082Inspection52745598
DTEND;TZID=Australia/:19700101T000000
TRANSP:OPAQUE
SUMMARY:Open For Inspection: 59 Verdun Street, TINGALPA
DESCRIPTION:Hidden urban treasure enveloped in an intoxicating aura of rural seclusion - It is rare indeed to find a home of this calibre offering the perfect blend of urban convenience with a peaceful and vast rural outlook within 13kms of the Brisbane CBD.

This beautiful modern family residence, hidden away at the end of a driveway, in a no through street, will surprise and delight and offers something for everyone. It is perched on a large 796M2 block overlooking never to be built out, vast equestrian parkland. Though pastoral and unpretentious, the property features modern qualities and creature comforts to make the perfect family retreat now and well into the future.

Double front doors welcome you, providing a brief glimpse of the finesse and style that lies beyond. An intelligent, light and airy floorplan allows for brilliant flow between interior zones. A generous combined living hub offers enormous flexibility with double pocket doors opening wide to a large-scale family room. Both spaces open onto the rear deck delivering over-sized living and outdoor entertaining areas; north facing and very private.
The kitchen is suitably equipped for entertaining and features Blanco stainless steel appliances, gas cooktop, stone countertops, pantry, plumbed-in, broad refrigerator niche, dishwasher and breakfast bar. Also on this level are a study/5th bedroom, laundry and internal access to the double garage complete with work/store area.
The upper level comprises another family room opening to a rear deck and four generous, built-in bedrooms. The master with his and her walk-in robe features an ensuite with separate toilet and an elevated, indulgent spa bath with a view of the verdant serene landscape.

Additional features:

 Ducted air-conditioning and ceiling fans
 5-kilowatt solar system and 5000 litre water tank plumbed into the house
 Multiple indoor/outdoor living spaces
 Security system, insect screens throughout
 Powder rooms upstairs and down
 Tiled lower level and plush carpeting upstairs
 Abundant storage closets throughout, including in the family room
 Under stair storage and a garden storage shed
 Double garage with remote controlled door and access through to the yard

This unique, secluded property is close to Tingalpa Central, Cannon Hill Plaza and a short drive to Westfield Carindale. Local schools include St Oliver Plunkett Catholic Primary School and Tingalpa State School. The proximity to the Gateway motorway is exceptional allowing for an easy commute to the Brisbane Airport or Sunshine and Gold Coasts. This is a one in a million opportunity not to be missed.



LAST-MODIFIED:20260425T015413
DTSTAMP:20260425T015413
DTSTART;TZID=Australia/:19700101T100000
LOCATION:59 Verdun Street TINGALPA QLD 4173
URL:http://www.remaxresults.com.au/20399082
SEQUENCE:0
END:VEVENT
END:VCALENDAR
