BEGIN:VCALENDAR
VERSION:2.0
PRODID:-//Apple Inc.//iCal 5.0.2//EN
CALSCALE:GREGORIAN
BEGIN:VTIMEZONE
TZID:Australia/
BEGIN:STANDARD
TZOFFSETFROM:+1100
RRULE:FREQ=YEARLY;BYMONTH=4;BYDAY=1SU
DTSTART:20080406T030000
TZNAME:
TZOFFSETTO:+
END:STANDARD
BEGIN:DAYLIGHT
TZOFFSETFROM:+
RRULE:FREQ=YEARLY;BYMONTH=10;BYDAY=1SU
DTSTART:20081005T020000
TZNAME:AEDT
TZOFFSETTO:+1100
END:DAYLIGHT
END:VTIMEZONE
BEGIN:VEVENT
CREATED:20260425T015512
UID:Property20410415Inspection52745632
DTEND;TZID=Australia/:20200229T124500
TRANSP:OPAQUE
SUMMARY:Open For Inspection: 8/4-6 East Street, CAMP HILL
DESCRIPTION:Don't let this one get away! A great investment! - ATTENTION HOME BUYERS: **Australia's Federal Government has outlawed anyone from holding organised, non-essential public gatherings and forced the closure of various businesses and activities. These restrictions include open home inspections. This does not prevent private inspections by appointment.
 Please register a time to view the property prior to the day you would like to view.**

Please contact MICHELLE to arrange a private inspection during the week.

Thank you

This property is the perfect balance between commuter convenience and the serenity of Camp Hill. Your new neighborhood is only a short walk or drive to all the amenities you could hope for and Carindale Shopping Centre is only a short drive away. 

This spacious townhouse gives you access to everything you need for entertainment and the peace and quiet of leafy East Street. 

Built within the last decade, you have the benefit of modern furnishings and the floor plan provides for a nice open living space, private rear courtyard, generous bedrooms and even a study nook.   

An excellent feature is the security of not one...but a 2 car space lock-up garage!  

Absolutely perfect whether you are buying as your new home or as an investment property!   

-Secure 2 car parking and internal access 
-Spacious open plan living 
-Air-conditioning throughout 
-Modern kitchen with electric stove and oven 
-Each bedroom with built in robes and one with en-suite and study nook 
-Private balcony off upstairs living area and private courtyard below 
-Affordable body corporate rates 
-Drive to the CBD in under 20 minutes 
-Excellent investment opportunity in one of Brisbane's high growth suburbs
LAST-MODIFIED:20260425T015512
DTSTAMP:20260425T015512
DTSTART;TZID=Australia/:20200229T121500
LOCATION:8/4-6 East Street CAMP HILL QLD 4152
URL:http://www.remaxresults.com.au/20410415
SEQUENCE:0
END:VEVENT
END:VCALENDAR
