BEGIN:VCALENDAR
VERSION:2.0
PRODID:-//Apple Inc.//iCal 5.0.2//EN
CALSCALE:GREGORIAN
BEGIN:VTIMEZONE
TZID:Australia/
BEGIN:STANDARD
TZOFFSETFROM:+1100
RRULE:FREQ=YEARLY;BYMONTH=4;BYDAY=1SU
DTSTART:20080406T030000
TZNAME:
TZOFFSETTO:+
END:STANDARD
BEGIN:DAYLIGHT
TZOFFSETFROM:+
RRULE:FREQ=YEARLY;BYMONTH=10;BYDAY=1SU
DTSTART:20081005T020000
TZNAME:AEDT
TZOFFSETTO:+1100
END:DAYLIGHT
END:VTIMEZONE
BEGIN:VEVENT
CREATED:20260425T015513
UID:Property20344428Inspection52746451
DTEND;TZID=Australia/:20200229T113000
TRANSP:OPAQUE
SUMMARY:Open For Inspection: 13/101 Richmond Road, Morningside
DESCRIPTION:Convenience & Location Plus! - private viewing appointments available, please call to register.

This larger than average three bedroom townhomes spread across two levels has been freshly painted throughout and offers the next owners a low maintenance resort lifestyle with a sparkling oasis in-ground style pool to cool off throughout the summer months. 

Surrounded in a leafy setting and your choice of great cafes,supermarkets, shopping centres and local schools, you will be spoiled for options. You will not believe the comfort and convenience this property offers, so viewing is a must today.

Features at a glance:

- 3 good size bedrooms with built-ins & screens
- Master Bedroom suite with air-con
- Main bathroom
- Separate toilet
- Separate lounge & dining rooms
- Under stair storage
- Downstairs bathroom and toilet
- Lock up garage with internal access
- Secure rear Courtyard
- Resort Style Swimming Pool
- Low Body Corp fees, approx $700 per qrt



Pick your next investment property or family home in great Morningside location.

Click below to book a viewing appointment today!










Morningside Train Station - 650m
Blue Poppy Cafe - 700m
Austin Uhlmann Park - 750m
Flour & Chocolate Bakery - 1.2km
Colmslie Hotel - 1.2km
Morningside Shopping Centre - 1.3km
Woolworths Morningside - 1.3km
Seven Hills Bushland Reserve - 1.8km
Cannon Hill Shopping Centre - 2.7km
Westfield Shopping Centre - 5.9km
Brisbane CBD - approx 6km
Brisbane Airport - approx 13km


Contact:
Sandie Edwards   0456 447 813
sandieedwards@remax.com.au
www.remaxresults.com.au/

LAST-MODIFIED:20260425T015513
DTSTAMP:20260425T015513
DTSTART;TZID=Australia/:20200229T110000
LOCATION:13/101 Richmond Road Morningside QLD 4170
URL:http://www.remaxresults.com.au/20344428
SEQUENCE:0
END:VEVENT
END:VCALENDAR
