BEGIN:VCALENDAR
VERSION:2.0
PRODID:-//Apple Inc.//iCal 5.0.2//EN
CALSCALE:GREGORIAN
BEGIN:VTIMEZONE
TZID:Australia/
BEGIN:STANDARD
TZOFFSETFROM:+1100
RRULE:FREQ=YEARLY;BYMONTH=4;BYDAY=1SU
DTSTART:20080406T030000
TZNAME:
TZOFFSETTO:+
END:STANDARD
BEGIN:DAYLIGHT
TZOFFSETFROM:+
RRULE:FREQ=YEARLY;BYMONTH=10;BYDAY=1SU
DTSTART:20081005T020000
TZNAME:AEDT
TZOFFSETTO:+1100
END:DAYLIGHT
END:VTIMEZONE
BEGIN:VEVENT
CREATED:20260425T015424
UID:Property20248039Inspection52749063
DTEND;TZID=Australia/:20200227T113000
TRANSP:OPAQUE
SUMMARY:Open For Inspection: 6/35 Louis Street, ANNERLEY
DESCRIPTION:Lovely Louis - *PROPERTY CAN COME FURNISHED OR UNFURNISHED 
$100 COLES VOUCHER FOR NEW TENANT

Unique unit at 6/35 Louis Street, Annerley is a greatly located unit and is only approximately 5km from the CBD, and only 1.5km to the Brisbane River. 

This unit consists of a generous sized master bedroom, spacious combined living and dining, calm outdoor setting for you to relax and wind down at the end of your day. The bathroom consists of a shower/bath, mirror storage and a vanity with plenty of storage below.

The large kitchen offers a large bench space and a lot of storage throughout. 

At 6/35 Louis Street, Annerley you are within walking distance of Fairfield Gardens Shopping Centre, Transport such as busses from Annerley road, and the train station which is only a 10 minute walk away.



***IMPORTANT*** - Please note we are still conducting Private Inspections - please register to see available inspections or to be notified of any new inspections.

PRIVATE INSPECTIONS - Pls sms 0427357003 of the times available do not suit and we will try to accommodate.
All agents will be taking safety precautions and there will be no hand to hand contact.
LAST-MODIFIED:20260425T015424
DTSTAMP:20260425T015424
DTSTART;TZID=Australia/:20200227T112000
LOCATION:6/35 Louis Street ANNERLEY QLD 4103
URL:http://www.remaxresults.com.au/20248039
SEQUENCE:0
END:VEVENT
END:VCALENDAR
