BEGIN:VCALENDAR
VERSION:2.0
PRODID:-//Apple Inc.//iCal 5.0.2//EN
CALSCALE:GREGORIAN
BEGIN:VTIMEZONE
TZID:Australia/
BEGIN:STANDARD
TZOFFSETFROM:+1100
RRULE:FREQ=YEARLY;BYMONTH=4;BYDAY=1SU
DTSTART:20080406T030000
TZNAME:
TZOFFSETTO:+
END:STANDARD
BEGIN:DAYLIGHT
TZOFFSETFROM:+
RRULE:FREQ=YEARLY;BYMONTH=10;BYDAY=1SU
DTSTART:20081005T020000
TZNAME:AEDT
TZOFFSETTO:+1100
END:DAYLIGHT
END:VTIMEZONE
BEGIN:VEVENT
CREATED:20260425T015504
UID:Property20420848Inspection52749126
DTEND;TZID=Australia/:20200229T132000
TRANSP:OPAQUE
SUMMARY:Open For Inspection: 2/25 Maywood Street, Loganlea
DESCRIPTION:Marvelous Maywood - ***IMPORTANT*** 
Due to government restrictions Open for Inspections will be postponed until further notice.
We may be able to offer video walk through of properties. Please text 0427 357 003 if you would like this sent to you.
We are accepting applications sight unseen and we can arrange private one on one inspections for PRE-APPROVED  Applicants only. We appreciate your patience during these unprecedented times. 

Gorgeous Townhouses ready for rent!

Near new and ready to move into, these gorgeous townhouses will delight those looking for a modern home with space and contemporary feel. Each unit has quality fixtures and fittings throughout and an sophisticated design.  

Well located Close to public Transport and schools and a short drive to the motorway

Each town home offers:
- Three Bedrooms with Built in Robes & Ceiling Fans 
- Balcony to upstairs Master Bedroom 
- Rear yard access to Bedroom 2
- Air conditioned open plan Living and Dining
- Modern kitchen with stainless steel appliances (electric cooking) 
- Two designer bathrooms (bath/ shower combo to main)
- Single car accommodation plus another additional car space
- Low maintenance outdoor area
- 170m2 floor plan

Please register your interest to be advised of upcoming inspections or any changes to inspections.
LAST-MODIFIED:20260425T015504
DTSTAMP:20260425T015504
DTSTART;TZID=Australia/:20200229T130500
LOCATION:2/25 Maywood Street Loganlea QLD 4131
URL:http://www.remaxresults.com.au/20420848
SEQUENCE:0
END:VEVENT
END:VCALENDAR
