BEGIN:VCALENDAR
VERSION:2.0
PRODID:-//Apple Inc.//iCal 5.0.2//EN
CALSCALE:GREGORIAN
BEGIN:VTIMEZONE
TZID:Australia/
BEGIN:STANDARD
TZOFFSETFROM:+1100
RRULE:FREQ=YEARLY;BYMONTH=4;BYDAY=1SU
DTSTART:20080406T030000
TZNAME:
TZOFFSETTO:+
END:STANDARD
BEGIN:DAYLIGHT
TZOFFSETFROM:+
RRULE:FREQ=YEARLY;BYMONTH=10;BYDAY=1SU
DTSTART:20081005T020000
TZNAME:AEDT
TZOFFSETTO:+1100
END:DAYLIGHT
END:VTIMEZONE
BEGIN:VEVENT
CREATED:20260425T015503
UID:Property20400659Inspection52750416
DTEND;TZID=Australia/:20200229T153000
TRANSP:OPAQUE
SUMMARY:Open For Inspection: 462 Montague Road, West End
DESCRIPTION:ICONIC VERSATILE CENTRAL - Now you can build on the legacy of this three bedroom, two bathroom two car park residence with a charming shop front and serene river views.
 
Situated on Montague Road's commercial strip, the property retains all of Hill End's old Queensland appeal. Just 1 km from the Brisbane CBD, you're always close to the action and as a low-medium density residential area, enjoy the calm of a carefully preserved community.
 
Operating as a licensed food and drink outlet for over a decade, this property is also zoned for a club, retail activities, health care and education establishments, community care centres or even veterinary services - truly versatile in a stand-out location.
 
As an astute property owner you can maximise this opportunity by applying the 2 or 3 storey mix zoning to raise the building for unit, offices or retail space.
 
Easily accessible by public transport with regular bus and ferry stops nearby. 
 
Features
 
-        Spacious 329 sq.m. area in stand-out corner location
 
-        3 bedroom, 2 bathroom residence - open plan with outdoor dining
 
-        50 sq.m.  of back deck 
 
-        2 covered off-street car parks
 
-        Potential rental income up to $62,000 p/a
 
-        Commercial kitchen
 
-        Only one block from Brisbane River's Orleigh Park
 
-        Within West End State Primary School and Brisbane State High School catchment area
 
Don't hesitate to call me for a private inspection 
 
See you there ciao


LAST-MODIFIED:20260425T015503
DTSTAMP:20260425T015503
DTSTART;TZID=Australia/:20200229T150000
LOCATION:462 Montague Road West End QLD 4101
URL:http://www.remaxresults.com.au/20400659
SEQUENCE:0
END:VEVENT
END:VCALENDAR
