BEGIN:VCALENDAR
VERSION:2.0
PRODID:-//Apple Inc.//iCal 5.0.2//EN
CALSCALE:GREGORIAN
BEGIN:VTIMEZONE
TZID:Australia/
BEGIN:STANDARD
TZOFFSETFROM:+1100
RRULE:FREQ=YEARLY;BYMONTH=4;BYDAY=1SU
DTSTART:20080406T030000
TZNAME:
TZOFFSETTO:+
END:STANDARD
BEGIN:DAYLIGHT
TZOFFSETFROM:+
RRULE:FREQ=YEARLY;BYMONTH=10;BYDAY=1SU
DTSTART:20081005T020000
TZNAME:AEDT
TZOFFSETTO:+1100
END:DAYLIGHT
END:VTIMEZONE
BEGIN:VEVENT
CREATED:20260425T015557
UID:Property20391649Inspection52752868
DTEND;TZID=Australia/:20200229T091500
TRANSP:OPAQUE
SUMMARY:Open For Inspection: 1/60 Kates Street, Morningside
DESCRIPTION:OPEN HOME CANCELLED - Great opportunity to secure this fantastic unit in one of the best pockets of Morningside.

Boasting an expansive indoor-outdoor space and a location of exceptional convenience, this modern apartment presents the opportunity to secure an enviable low-maintenance lifestyle or property with broad rental appeal. Centrally positioned in a wide leafy street, the apartment is in a small boutique complex of just 5.

This is a rare opportunity to purchase an uber chic apartment boasting two spacious bedrooms - air-conditioned main bedroom with built in robe and ensuite, modern kitchen with stainless steel European appliances and stone bench tops, and an air-conditioned lounge and dining opening out through double glass sliding doors to the large covered patio for year round entertaining. 

With stunning features such as...
•	2 Bedrooms, master with Ensuite and Walk in robe 
•	Stone benchtops
•	Stainless steel appliances
•	Air conditioned living and master bedroom
•	Security entrance
•	Massive balcony
•	Separate laundry
•	Remote control garage
•	Close to Brisbane city plus all public transport to get there
•	Reasonable body corporate of $45 per week
•	Currently rented, 24 hours notice for inspections are required.

This apartment is only minutes' walk from the many benefits the area has to offer, including public transport options including Bus, Train and Ferry. Also located amongst a number of highly regarded schools such as Lourdes Hill College, St Peters and Pauls, Bulimba State School and Churchie only minutes away and the ever popular cafe precinct Oxford Street Bulimba and Hawthorne Cinema's and Restaurant precinct are all on your doorstep.

Due to the currently unfolding COVID-19 situation, for the health and safety of all concerned, this property is available to view by private inspection only.

All offers now to be submitted through our online offers platform 'Market Buy', To register, or for more details email or text.
LAST-MODIFIED:20260425T015557
DTSTAMP:20260425T015557
DTSTART;TZID=Australia/:20200229T090000
LOCATION:1/60 Kates Street Morningside QLD 4170
URL:http://www.remaxresults.com.au/20391649
SEQUENCE:0
END:VEVENT
END:VCALENDAR
