BEGIN:VCALENDAR
VERSION:2.0
PRODID:-//Apple Inc.//iCal 5.0.2//EN
CALSCALE:GREGORIAN
BEGIN:VTIMEZONE
TZID:Australia/
BEGIN:STANDARD
TZOFFSETFROM:+1100
RRULE:FREQ=YEARLY;BYMONTH=4;BYDAY=1SU
DTSTART:20080406T030000
TZNAME:
TZOFFSETTO:+
END:STANDARD
BEGIN:DAYLIGHT
TZOFFSETFROM:+
RRULE:FREQ=YEARLY;BYMONTH=10;BYDAY=1SU
DTSTART:20081005T020000
TZNAME:AEDT
TZOFFSETTO:+1100
END:DAYLIGHT
END:VTIMEZONE
BEGIN:VEVENT
CREATED:20260425T015425
UID:Property20428264Inspection52753518
DTEND;TZID=Australia/:20200229T113000
TRANSP:OPAQUE
SUMMARY:Open For Inspection: 1/718 Wynnum Road, Morningside
DESCRIPTION:The Almost Center of Morningside - Situated a hop, skip and a jump to Morningside CBD, this two-bedroom, one-bathroom townhouse residence offers fantasic location for those looking to live close by the township of morningside, close to public transport including bus stops and a quick walk to the train station. 

This townhouse offers an open plan living and dining room, modern kitchen on the lower level while the upper level has the bedrooms and bathroom. Add to that a single car garage and you have got yourself an amazing, super convenient home which has also been recently repainted.

Features at glance:

• Two bedrooms with built-ins and ceiling fans
• Open plan living/dining area with ceiling fan
• Tidy functional bathroom with shower, separate bath and separate toilet upstairs
• Sliding door access from lounge to private outdoor yard / courtyard
• Fully functional kitchen with room for a dishwasher and spacious pantry
• Internal laundry
• Enjoy peace of mind with security door and screens throughout
• Under stair storage area
• Single Car garage
• Close to public transport, schools, local cafes, restaurants and amenities


Please make sure to register you interest to recieve updates on inspections or any appointment changes. 

LAST-MODIFIED:20260425T015425
DTSTAMP:20260425T015425
DTSTART;TZID=Australia/:20200229T111500
LOCATION:1/718 Wynnum Road Morningside QLD 4170
URL:http://www.remaxresults.com.au/20428264
SEQUENCE:0
END:VEVENT
END:VCALENDAR
