BEGIN:VCALENDAR
VERSION:2.0
PRODID:-//Apple Inc.//iCal 5.0.2//EN
CALSCALE:GREGORIAN
BEGIN:VTIMEZONE
TZID:Australia/
BEGIN:STANDARD
TZOFFSETFROM:+1100
RRULE:FREQ=YEARLY;BYMONTH=4;BYDAY=1SU
DTSTART:20080406T030000
TZNAME:
TZOFFSETTO:+
END:STANDARD
BEGIN:DAYLIGHT
TZOFFSETFROM:+
RRULE:FREQ=YEARLY;BYMONTH=10;BYDAY=1SU
DTSTART:20081005T020000
TZNAME:AEDT
TZOFFSETTO:+1100
END:DAYLIGHT
END:VTIMEZONE
BEGIN:VEVENT
CREATED:20260425T015558
UID:Property20072272Inspection52753615
DTEND;TZID=Australia/:20200229T154500
TRANSP:OPAQUE
SUMMARY:Open For Inspection: 25 Bundara Street, Morningside
DESCRIPTION:Ultra Rare Freehold Contemporary Residence - no Body Corp fees Ever! - We are happy to accommodate individual inspections for your comfort
Personal viewings as per booked appointment only.

Ultra Rare Freehold Contemporary Residence

Your brand new private freehold residence is crafted superbly with interior designer finishes and carefully executed to fulfil the most sought after lifestyle aspirations. This exceptional home offers low maintenance living, seamless indoor & outdoor flow, gas connection to the entertaining balcony and best of all, no body corp fees ever!
 
'Carntyne Chase' - complete with contemporary, architectural open plan design, raked ceilings, elevated leafy outlook allowing suburb breezes and natural light throughout this welcoming residence. Street frontage, direct pedestrian access, entrance to impress, spacious indoor & outdoor living areas, chef's kitchen, beautifully presented Master bedroom suite, plus double side by side car accommodation. 

This Freehold Townhome is Private - Secure - North Facing - Elegant 
 
Features include:

- Expansive open plan living 
- 2  levels of living
- Spacious entertaining balconies 
- Terraced courtyard area
- Stunning oak timber flooring
- Designer kitchen with stone benchtops and Smeg appliances
- Indulgent master bedroom with walk-in robe, en-suite plus private balcony
- 2nd and 3rd bedrooms with integrated wardrobe 
- Discrete guest powder room 
- Air conditioning and fans in all bedrooms and living room
- Separate study area
- Ceiling fans in all bedrooms, living room, alfresco area 
- Wine fridge
- Gas to entertaining balcony
- Feature lighting
- Fabulous north facing leafy aspect
- 2 garage plus option for 3 car accommodation 
- No body corp fees ever!
 
This rare Freehold low maintenance Townhome is located a short stroll to Morningside train station, close to all-important shopping/dining precinct that Morningside offers. A few minutes' drive from Bulimba Ferry, theatres and restaurants, approx. 6kms to CBD, near major shopping Centres and parks, conveniently located close major access roads, Airport Link tunnels to the North and South Coast, plus easy drive to the airport. 
 
Inspections as advertised or by Appointment 7 days

Images may include artists' impressions and computer-generated images. Changes may be made during further planning or development stages of the development; and dimensions, fittings, finishes and ongoing costs, specifications and representations, are subject to change without notice at the discretion of the Developer.
LAST-MODIFIED:20260425T015558
DTSTAMP:20260425T015558
DTSTART;TZID=Australia/:20200229T150000
LOCATION:25 Bundara Street Morningside QLD 4170
URL:http://www.remaxresults.com.au/20072272
SEQUENCE:0
END:VEVENT
END:VCALENDAR
