BEGIN:VCALENDAR
VERSION:2.0
PRODID:-//Apple Inc.//iCal 5.0.2//EN
CALSCALE:GREGORIAN
BEGIN:VTIMEZONE
TZID:Australia/
BEGIN:STANDARD
TZOFFSETFROM:+1100
RRULE:FREQ=YEARLY;BYMONTH=4;BYDAY=1SU
DTSTART:20080406T030000
TZNAME:
TZOFFSETTO:+
END:STANDARD
BEGIN:DAYLIGHT
TZOFFSETFROM:+
RRULE:FREQ=YEARLY;BYMONTH=10;BYDAY=1SU
DTSTART:20081005T020000
TZNAME:AEDT
TZOFFSETTO:+1100
END:DAYLIGHT
END:VTIMEZONE
BEGIN:VEVENT
CREATED:20260425T015603
UID:Property18035375Inspection52754336
DTEND;TZID=Australia/:20200229T143000
TRANSP:OPAQUE
SUMMARY:Open For Inspection: 231 Agnew Street, SEVEN HILLS
DESCRIPTION:POTENTIAL! - Situated in a premium location this home provides huge potential for its new owner!

The modest post war home includes 2 bedrooms 1 bathroom and a living and kitchen in original condition allowing for a renovation or the potential to knock down and build a new home.

The large 607m2 block is a huge draw card for this property and is within 200m of the corso so subject to BCC could possibly be developed. There is also a petition for a commercial precinct in the Clearview estate which would include a woolies/coles and other specialty stores and this will be well within the 200m requirement to develop in the future. 

A perfect land bank opportunity or potential to build your dream home, please call Dan to book your private inspection.
LAST-MODIFIED:20260425T015603
DTSTAMP:20260425T015603
DTSTART;TZID=Australia/:20200229T140000
LOCATION:231 Agnew Street SEVEN HILLS QLD 4170
URL:http://www.remaxresults.com.au/18035375
SEQUENCE:0
END:VEVENT
END:VCALENDAR
