BEGIN:VCALENDAR
VERSION:2.0
PRODID:-//Apple Inc.//iCal 5.0.2//EN
CALSCALE:GREGORIAN
BEGIN:VTIMEZONE
TZID:Australia/
BEGIN:STANDARD
TZOFFSETFROM:+1100
RRULE:FREQ=YEARLY;BYMONTH=4;BYDAY=1SU
DTSTART:20080406T030000
TZNAME:
TZOFFSETTO:+
END:STANDARD
BEGIN:DAYLIGHT
TZOFFSETFROM:+
RRULE:FREQ=YEARLY;BYMONTH=10;BYDAY=1SU
DTSTART:20081005T020000
TZNAME:AEDT
TZOFFSETTO:+1100
END:DAYLIGHT
END:VTIMEZONE
BEGIN:VEVENT
CREATED:20260425T015602
UID:Property20399980Inspection52754727
DTEND;TZID=Australia/:20200229T113000
TRANSP:OPAQUE
SUMMARY:Open For Inspection: 3/29 Rawlinson Street, MURARRIE
DESCRIPTION:REPRESENTING GREAT VALUE - Situated in a very desirable street the 'Easton' is perfectly positioned to take advantage of everything this fantastic suburb has to offer right at your doorstep. Superbly built with quality finishes throughout this two-bedroom modern apartment has an abundance of style and convenience with a reasonable price tag. 

Features include:

- Larger than normal balcony with views and ideal for entertaining
- Large master bedroom with split system A/C and walk in wardrobe 
- Stylish modern bathrooms with floor to ceiling tiles 
- Chef inspired kitchen with 20mm stone top benches and Bosch appliances
- Timber flooring in living areas and carpets in both bedrooms 
- One car space and visitor car spaces on site 
- Short distance to Cannon Hill Shopping Plaza
- Quick walk to transport with local train and bus stops 
- Murarrie Recreational Ground is a short stroll away 


This property is exceptionally located within close proximity to main bus routes to the city and just a short stroll to Murarrie train station. There is a wide range of public and private schools nearby and walking distance from Cannon Hill shopping centre and a quick drive to Westfield Carindale. 

LAST-MODIFIED:20260425T015602
DTSTAMP:20260425T015602
DTSTART;TZID=Australia/:20200229T110000
LOCATION:3/29 Rawlinson Street MURARRIE QLD 4172
URL:http://www.remaxresults.com.au/20399980
SEQUENCE:0
END:VEVENT
END:VCALENDAR
