BEGIN:VCALENDAR
VERSION:2.0
PRODID:-//Apple Inc.//iCal 5.0.2//EN
CALSCALE:GREGORIAN
BEGIN:VTIMEZONE
TZID:Australia/
BEGIN:STANDARD
TZOFFSETFROM:+1100
RRULE:FREQ=YEARLY;BYMONTH=4;BYDAY=1SU
DTSTART:20080406T030000
TZNAME:
TZOFFSETTO:+
END:STANDARD
BEGIN:DAYLIGHT
TZOFFSETFROM:+
RRULE:FREQ=YEARLY;BYMONTH=10;BYDAY=1SU
DTSTART:20081005T020000
TZNAME:AEDT
TZOFFSETTO:+1100
END:DAYLIGHT
END:VTIMEZONE
BEGIN:VEVENT
CREATED:20260425T015510
UID:Property20401749Inspection52754762
DTEND;TZID=Australia/:20200229T123000
TRANSP:OPAQUE
SUMMARY:Open For Inspection: 5/853 Wynnum Road, CANNON HILL
DESCRIPTION:2 levels of Convenient living or great investment opportunity! - Neatly enhanced with a crisp neutral colour palette, this two level unit presents a light, bright and airy layout for immediate enjoyment. It's highly desirable position at the rear of the complex promises young couples, first home buyers, downsizers and investors peace and privacy within close proximity to schools, daycare centre, shops and public transport services.

The kitchen offers an array of cupboard and bench storage space enhanced by a quality selection of cooking appliances while its central position to the living and dining areas ensures ease of living.

Ascend the stairs and be greeted by a lavishly sized master bedroom with walk in robe and second bedroom with walk in robe. A renovated main bathroom is positioned between them on the top level also. Complete with an extra powder room downstairs, separate renovated laundry with stone bench tops and also features a single car undercover park.

With the CBD just a 15 minute drive away, Cannon Hill Plaza provides an abundance of shopping and dining options while local cafes and restaurants present immense lifestyle appeal for residents.

This low maintenance property presents an unbeatable combination of peace, privacy and superb convenience.

Access to the M1 is close by for travel north or south.
LAST-MODIFIED:20260425T015510
DTSTAMP:20260425T015510
DTSTART;TZID=Australia/:20200229T120000
LOCATION:5/853 Wynnum Road CANNON HILL QLD 4170
URL:http://www.remaxresults.com.au/20401749
SEQUENCE:0
END:VEVENT
END:VCALENDAR
