BEGIN:VCALENDAR
VERSION:2.0
PRODID:-//Apple Inc.//iCal 5.0.2//EN
CALSCALE:GREGORIAN
BEGIN:VTIMEZONE
TZID:Australia/
BEGIN:STANDARD
TZOFFSETFROM:+1100
RRULE:FREQ=YEARLY;BYMONTH=4;BYDAY=1SU
DTSTART:20080406T030000
TZNAME:
TZOFFSETTO:+
END:STANDARD
BEGIN:DAYLIGHT
TZOFFSETFROM:+
RRULE:FREQ=YEARLY;BYMONTH=10;BYDAY=1SU
DTSTART:20081005T020000
TZNAME:AEDT
TZOFFSETTO:+1100
END:DAYLIGHT
END:VTIMEZONE
BEGIN:VEVENT
CREATED:20260425T015503
UID:Property20421822Inspection52755831
DTEND;TZID=Australia/:20200229T113000
TRANSP:OPAQUE
SUMMARY:Open For Inspection: 101 The Promenade, CAMP HILL
DESCRIPTION:Privacy/Seclusion on 948m2 - Enjoying absolute peace and privacy this much loved home easily captures morning sun and cooling bay breezes.
You will appreciate the modernist influences, the superb open plan living/dining and kitchen which flows effortlessly to both a private intimate courtyard and a generous rear deck overlooking the  beautifully treed 948m2 grounds.
Sited at the pinnacle of this premier street and only a stone's throw to the Seven Hills 100 acre bushland.
You will love the flexible floor plan and the pure potential this easy care well maintained home brings to the market.

* Private & Secluded 948m2
* Incredibly Flexible Floor Plan
* 900mm Belling Gas Oven 
* Two Delightful Bathrooms
* Ensuite & Walk In Robe
* Seamless Indoor Outdoor Living
* Four Split Air Conditioners
* 5000L Water Tank
* Two Car Covered Car Parks
* Modernist Architectural Influences
* Leafy Private Haven
* Loads of Storage/Adaptable Spaces
* A Multitude of Garden Retreats
* Brilliant Future Potential
* Well Maintained & Presented

Minutes to local shops, schools, coffee and eateries yet quietly sitting on a massive 948m2.  The market is stirring, the position is terrific and the home is in great condition with potential left for you to explore. 


LAST-MODIFIED:20260425T015503
DTSTAMP:20260425T015503
DTSTART;TZID=Australia/:20200229T110000
LOCATION:101 The Promenade CAMP HILL QLD 4152
URL:http://www.remaxresults.com.au/20421822
SEQUENCE:0
END:VEVENT
END:VCALENDAR
