BEGIN:VCALENDAR
VERSION:2.0
PRODID:-//Apple Inc.//iCal 5.0.2//EN
CALSCALE:GREGORIAN
BEGIN:VTIMEZONE
TZID:Australia/
BEGIN:STANDARD
TZOFFSETFROM:+1100
RRULE:FREQ=YEARLY;BYMONTH=4;BYDAY=1SU
DTSTART:20080406T030000
TZNAME:
TZOFFSETTO:+
END:STANDARD
BEGIN:DAYLIGHT
TZOFFSETFROM:+
RRULE:FREQ=YEARLY;BYMONTH=10;BYDAY=1SU
DTSTART:20081005T020000
TZNAME:AEDT
TZOFFSETTO:+1100
END:DAYLIGHT
END:VTIMEZONE
BEGIN:VEVENT
CREATED:20260425T015504
UID:Property20430391Inspection52757859
DTEND;TZID=Australia/:20200229T123000
TRANSP:OPAQUE
SUMMARY:Open For Inspection: 305 Boston Road, Belmont
DESCRIPTION:Modern Acreage Living - Set within an elevated position on 2 cleared acres, this compelling, as new residence redefines contemporary acreage living achieving new heights of modern elegance. A cleverly designed open floor plan will cater for the largest of family gatherings all year round. 

The open plan living and dining areas share a passion for smart clean lines and timeless style.  A central fireplace, built in cabinetry and plenty of natural light will ensure this space is a family favourite.  

From the indoor living spaces to outdoor alfresco dining, the flow is seamless and natural.  Terraced landscaped grounds, mature privacy plantings and a grassed children's play area are the perfect back drop for the resort style swimming pool.

In addition, this property offers a second dwelling situated at the front of the property with its own street access to accommodate extended family, home business or income producing investment property.


Features:
- The master suite boasts an impressive walk-in robe and stylish ensuite with dual vanities
- Three built-in oversized bedrooms plus study
- Large modern kitchen with walk-in pantry, vast stone bench space and quality appliances is the hub of the home providing easy access to the living and outdoor entertaining areas
- Glass bi-fold doors open to the spacious outdoor entertaining and pool areas
- Purpose built media room
- Ducted zoned air conditioning throughout
- Wall mounted ethanol fireplace
- A sparkling pool with plenty of privacy and  heating
- Oversized three car remote control garage
- 12 x 10m barnyard style shed 
- Fully fenced
- Fully equipped children's playground
- 2 street access - an ideal chance to incorporate a home based business
- Free from any flood encumbrances

Situated in the highly sought after Boston Road and just moments from local shops, restaurants, public transport to private schools, minutes to Westfield Carindale Shopping Centre and the Gateway while only 15 minutes from the Brisbane City.  

The only way to truly appreciate what this property has to offer is take the time and inspect it for yourself, you won't be disappointed.
LAST-MODIFIED:20260425T015504
DTSTAMP:20260425T015504
DTSTART;TZID=Australia/:20200229T120000
LOCATION:305 Boston Road Belmont QLD 4153
URL:http://www.remaxresults.com.au/20430391
SEQUENCE:0
END:VEVENT
END:VCALENDAR
