BEGIN:VCALENDAR
VERSION:2.0
PRODID:-//Apple Inc.//iCal 5.0.2//EN
CALSCALE:GREGORIAN
BEGIN:VTIMEZONE
TZID:Australia/
BEGIN:STANDARD
TZOFFSETFROM:+1100
RRULE:FREQ=YEARLY;BYMONTH=4;BYDAY=1SU
DTSTART:20080406T030000
TZNAME:
TZOFFSETTO:+
END:STANDARD
BEGIN:DAYLIGHT
TZOFFSETFROM:+
RRULE:FREQ=YEARLY;BYMONTH=10;BYDAY=1SU
DTSTART:20081005T020000
TZNAME:AEDT
TZOFFSETTO:+1100
END:DAYLIGHT
END:VTIMEZONE
BEGIN:VEVENT
CREATED:20260425T015413
UID:Property20355379Inspection52758603
DTEND;TZID=Australia/:20200229T100000
TRANSP:OPAQUE
SUMMARY:Open For Inspection: 605 Fairfield Road, YERONGA
DESCRIPTION:Space, Class and Design You Deserve! - Oak Cove at 605 Fairfield Road

ONLY 3 LEFT!

The Oak Cove raises the bar for the modern townhouse experience.
With its sensible design and engineering, handcrafted oak woods tiles, luxe finishings, and convenient double car garages, Oak Cove at 605 Fairfield Road is a rare opportunity for you to own a slice of inner-city paradise.

A boutique complex of 9 townhouses, each spread across 3 level
Last 3 with 4 bedroom options. Like oaks themselves, the townhouses are strong, timeless and classy offering sunrise to sunset views.

Conveniently located in the heart of South East Brisbane, with 2 train stations less than 400m away, and with The Brisbane Golf Club, Yeerongpilly Green, Queensland Tennis Centre, and shopping centres all within a 2 km radius, this is an ideal first home or worthy investment property available in Brisbane right now. 

Make the Oak Cove your very own retreat.

Some of the features include:

- Body Corporate fees - $1518.56 pa
- Wooden tile flooring throughout living areas
- 40mm stone bench tops in kitchens and bathrooms
- Designer tapware and custom cabinetry
- Top of the range Bosch appliances
- Ducted air-conditioning with heat/cool/humidity control
- Video intercom system
- Double glazed sliding doors and windows
- Dryer and Dishwasher
- Bosch Infinity hot water system
- Gas connection in kitchen and balcony

Inspect at the next Open Home or call Leonardo for a private inspection.
LAST-MODIFIED:20260425T015413
DTSTAMP:20260425T015413
DTSTART;TZID=Australia/:20200229T090000
LOCATION:605 Fairfield Road YERONGA QLD 4104
URL:http://www.remaxresults.com.au/20355379
SEQUENCE:0
END:VEVENT
END:VCALENDAR
