BEGIN:VCALENDAR
VERSION:2.0
PRODID:-//Apple Inc.//iCal 5.0.2//EN
CALSCALE:GREGORIAN
BEGIN:VTIMEZONE
TZID:Australia/
BEGIN:STANDARD
TZOFFSETFROM:+1100
RRULE:FREQ=YEARLY;BYMONTH=4;BYDAY=1SU
DTSTART:20080406T030000
TZNAME:
TZOFFSETTO:+
END:STANDARD
BEGIN:DAYLIGHT
TZOFFSETFROM:+
RRULE:FREQ=YEARLY;BYMONTH=10;BYDAY=1SU
DTSTART:20081005T020000
TZNAME:AEDT
TZOFFSETTO:+1100
END:DAYLIGHT
END:VTIMEZONE
BEGIN:VEVENT
CREATED:20260425T004206
UID:Property14483025Inspection53768223
DTEND;TZID=Australia/:20210227T113000
TRANSP:OPAQUE
SUMMARY:Open For Inspection: 5/16-20 EAST CRESCENT STREET, MCMAHONS POINT
DESCRIPTION:STUNNING QUIET SUN FILLED APARTMENT - This fantastic, imaculate apartment speaks for itself with its broad open plan kitchen/ living area flowing seamlessly out to a large sunny terrace nestled in a perfectly quiet and private location. 

Enjoying quality appointments and fit-out throughout it also comes fully equiped with quality appliances including dishwasher, integrated fridge, microwave, washing machine and dryer.

The bedroom comfortably fits a queen bed and side tables and has built in robes. The bathroom is oversized and includes the built in laundry.

Broad views are enjoyed from North Sydney to the City with glipses of Lavender Bay and Luna Park

Just a stroll to the ferry and buses, excellent cafes and restaurants, Blues Point Pub, boutique shops and convenience stores.

The fresh paint is just about dry, call Ian for your private appointment, you will love it.


LAST-MODIFIED:20260425T004206
DTSTAMP:20260425T004206
DTSTART;TZID=Australia/:20210227T110000
LOCATION:5/16-20 EAST CRESCENT STREET MCMAHONS POINT NSW 2060
URL:http://www.pacificpropertygroup.com.au/14483025
SEQUENCE:0
END:VEVENT
END:VCALENDAR
