BEGIN:VCALENDAR
VERSION:2.0
PRODID:-//Apple Inc.//iCal 5.0.2//EN
CALSCALE:GREGORIAN
BEGIN:VTIMEZONE
TZID:Australia/
BEGIN:STANDARD
TZOFFSETFROM:+1100
RRULE:FREQ=YEARLY;BYMONTH=4;BYDAY=1SU
DTSTART:20080406T030000
TZNAME:
TZOFFSETTO:+
END:STANDARD
BEGIN:DAYLIGHT
TZOFFSETFROM:+
RRULE:FREQ=YEARLY;BYMONTH=10;BYDAY=1SU
DTSTART:20081005T020000
TZNAME:AEDT
TZOFFSETTO:+1100
END:DAYLIGHT
END:VTIMEZONE
BEGIN:VEVENT
CREATED:20260425T021022
UID:Property20423923Inspection52743591
DTEND;TZID=Australia/:20200229T113000
TRANSP:OPAQUE
SUMMARY:Open For Inspection: 31 Oakland Parade, Banora Point
DESCRIPTION:NORTH FACING FAMILY HOME WITH VIEWS & ROOM FOR THE CARAVAN - This immaculately presented family home offers so much! With spacious open plan living enjoying views from Coolangatta to Surfers Paradise, there is room for all the toys with a double lock-up garage, pad for a boat or caravan plus workshop and carport.

STAND OUT FEATURES

- Four bedrooms, three with built-in robes, two bedrooms have fans (one also has air-conditioning)
- Main bedroom with air-conditioning, renovated en-suite and walk-in robe plus fan
- Tastefully renovated main bathroom with bath and shower and separate toilet   
- Large open plan living and dining enjoying stunning views, complemented with new carpet and ducted air-conditioning
- Sociable kitchen with loads of bench space overlooking outdoor entertaining and yard
- Tiled family room with ducted air-conditioning, opening to outdoor entertaining
- Private covered outdoor entertaining and fully fenced yard
- Large separate laundry
- Two garden sheds
- Auto double lock-up garage with internal access
- Work shop area and carport
- Caravan/boat pad with side access

FINER DETAILS

- Rates $2,913.60
- Land size 668m2

WHERE TO FROM HERE  

- Club Banora 3 min drive
- Banora Point High 4 min drive
- Banora Shopping Village 4 min drive
- Tweed City Shopping Centre 9 min drive
- Gold Coast Airport 14 min drive
- Kirra Beach 11 min drive

LAST-MODIFIED:20260425T021022
DTSTAMP:20260425T021022
DTSTART;TZID=Australia/:20200229T110000
LOCATION:31 Oakland Parade Banora Point NSW 2486
URL:http://www.rbr.com.au/20423923
SEQUENCE:0
END:VEVENT
END:VCALENDAR
